BEGIN:VCALENDAR
PRODID:NingEventWidget-v1
VERSION:2.0
METHOD:PUBLISH
BEGIN:VTIMEZONE
TZID:Pacific/Midway
X-LIC-LOCATION:Pacific/Midway
BEGIN:STANDARD
TZOFFSETFROM:-1100
TZOFFSETTO:-1100
TZNAME:SST
DTSTART:19700101T000000
END:STANDARD
END:VTIMEZONE
BEGIN:VEVENT
UID:5072275:Event:1046473
DTSTAMP:20260425T070011Z
SUMMARY:AutoCrusade 24, Cumming, Ga
DESCRIPTION:Friday evening Cruse In,  Bar-b-q & Bluegrass\nstarting a
 t 6:00 pm\nBar-b-q plates on sale  by Cherokee Ranch\nLive Bluegrass 
 starting around 6:45-7:00\nCars can set up for Saturday Car Show\n239 
 registered cars at 2016 show\n\nALL PROCEEDS GO TO MT. PISGAH BAPTIST 
 YOUTH GROUP\n\n\nFor more information visit https://www.southeastwheel
 sevents.com/events/autocrusade-24-cumming-ga
DTSTART;TZID=Pacific/Midway:20170825T180000
DTEND;TZID=Pacific/Midway:20170825T220000
CATEGORIES:car, show, "&", cruse, in
LOCATION:Cumming Ga Fairgrounds
WEBSITE:
URL:
CONTACT:404-372-9637  ///  404-788-8415
ORGANIZER:Danny Bearden ///   Randy Chester
ATTACH;FMTTYPE="image/jpeg":http://storage.ning.com/topology/rest/1.0/
 file/get/967745184?profile=original
ATTENDEE;ROLE=REQ-PARTICIPANT;PARTSTAT=ACCEPTED;RSVP=TRUE;CN="Randy Ch
 ester":https://www.southeastwheelsevents.com/profile/randychester
END:VEVENT
END:VCALENDAR
