BEGIN:VCALENDAR
PRODID:NingEventWidget-v1
VERSION:2.0
METHOD:PUBLISH
BEGIN:VTIMEZONE
TZID:Pacific/Midway
X-LIC-LOCATION:Pacific/Midway
BEGIN:STANDARD
TZOFFSETFROM:-1100
TZOFFSETTO:-1100
TZNAME:SST
DTSTART:19700101T000000
END:STANDARD
END:VTIMEZONE
BEGIN:VEVENT
UID:5072275:Event:553824
DTSTAMP:20260425T023842Z
SUMMARY:Autumn in the Mountains -Hendersonville NC
DESCRIPTION:The British Car Club of Western North Carolina and our spo
 nsors invite you to the annual Autumn in the Mountains - A British Ca
 r Gathering. \n\nFor more information visit https://www.southeastwhee
 lsevents.com/events/autumn-in-the-mountains-1
DTSTART;TZID=Pacific/Midway:20150926T090000
DTEND;TZID=Pacific/Midway:20150926T160000
CATEGORIES:fundraiser
LOCATION:Jackson Park
WEBSITE:http://autumninthemountains.org
URL:http://autumninthemountains.org
CONTACT:Carol 828-776-1708
ORGANIZER:British Car Club of Western North Carolina
ATTACH;FMTTYPE="image/jpeg":http://storage.ning.com/topology/rest/1.0/
 file/get/967623611?profile=original
ATTENDEE;ROLE=REQ-PARTICIPANT;PARTSTAT=ACCEPTED;RSVP=TRUE;CN="Alvan Mi
 chael Judson":https://www.southeastwheelsevents.com/profile/AlvanMicha
 elJudson
ATTENDEE;ROLE=REQ-PARTICIPANT;PARTSTAT=ACCEPTED;RSVP=TRUE;CN="Chuck Aa
 ron":https://www.southeastwheelsevents.com/profile/ChuckAaron
END:VEVENT
END:VCALENDAR
