BEGIN:VCALENDAR
PRODID:NingEventWidget-v1
VERSION:2.0
METHOD:PUBLISH
BEGIN:VTIMEZONE
TZID:Pacific/Midway
X-LIC-LOCATION:Pacific/Midway
BEGIN:STANDARD
TZOFFSETFROM:-1100
TZOFFSETTO:-1100
TZNAME:SST
DTSTART:19700101T000000
END:STANDARD
END:VTIMEZONE
BEGIN:VEVENT
UID:5072275:Event:566622
DTSTAMP:20260424T122339Z
SUMMARY:Autumn Run Car, Truck & Bike Show -Clarksville, TN
DESCRIPTION:Autumn Run Car, Truck & Bike Show -Clarksville, TN\r\n\n\n
 For more information visit https://www.southeastwheelsevents.com/event
 s/autumn-run-car-truck-bike-show-clarksville-tn
DTSTART;TZID=Pacific/Midway:20170916T090000
DTEND;TZID=Pacific/Midway:20170916T160000
CATEGORIES:car, truck, "&amp", bike, show
LOCATION:Governors's Square Mall
WEBSITE:http://www.memorylanecruisers.net
URL:http://www.memorylanecruisers.net
CONTACT:931-249-0900 or 931-206-4898
ORGANIZER:Memory Lane Cruisers
ATTACH;FMTTYPE="image/jpeg":http://storage.ning.com/topology/rest/1.0/
 file/get/967623248?profile=original
ATTENDEE;ROLE=REQ-PARTICIPANT;PARTSTAT=ACCEPTED;RSVP=TRUE;CN="Jack Tho
 mas":https://www.southeastwheelsevents.com/profile/JackThomas
END:VEVENT
END:VCALENDAR
