BEGIN:VCALENDAR
PRODID:NingEventWidget-v1
VERSION:2.0
METHOD:PUBLISH
BEGIN:VTIMEZONE
TZID:Pacific/Midway
X-LIC-LOCATION:Pacific/Midway
BEGIN:STANDARD
TZOFFSETFROM:-1100
TZOFFSETTO:-1100
TZNAME:SST
DTSTART:19700101T000000
END:STANDARD
END:VTIMEZONE
BEGIN:VEVENT
UID:5072275:Event:643515
DTSTAMP:20260425T005146Z
SUMMARY:Back Roads & Bikes Charity Ride and Poker Run -Warrenton, GA
DESCRIPTION:Back Roads & Bikes Charity Ride and Poker RunSponsored by 
 Hometown Warrenton, Inc., Gray's Citgo, P & H Supply Co., and Miss Jan
 e's RestaurantThe ride and poker run starts at 46 South Norwood Street
  in Warrenton. Registration begins at 9:00 am and the motorcycles go o
 ut at 10:00 am. The registration fees is $25.00 for the rider and $10.
 00 for a passenger. Each fee includes one hand of poker and a free lun
 ch. Extra hands of poker are $5.00 each.  The ride and poker run to r
 aise money for the Warren, Let's Read Together Program, which provides
  free new hardback books to county children ages 0-5 years old. For mo
 re information call (706) 465-9604, click here to send e-mail, or go 
 to http://www.EventsInWarrenCountyGA.org.  \n\nFor more information
  visit https://www.southeastwheelsevents.com/events/back-roads-bikes-c
 harity-ride-and-poker-run-warrenton-ga
DTSTART;TZID=Pacific/Midway:20130504T090000
DTEND;TZID=Pacific/Midway:20130504T190000
CATEGORIES:motorcycle-ride
LOCATION:46 South Norwood Street
WEBSITE:http://www.EventsInWarrenCountyGA.org.
URL:http://www.EventsInWarrenCountyGA.org.
CONTACT:(706) 465-9604
ORGANIZER:Hometown Warrenton, Inc., Gray's Citgo, P & H Supply Co., an
 d Miss Jane's Restaurant
ATTACH;FMTTYPE="image/jpeg":http://storage.ning.com/topology/rest/1.0/
 file/get/967637785?profile=original
ATTENDEE;ROLE=REQ-PARTICIPANT;PARTSTAT=ACCEPTED;RSVP=TRUE;CN="Jack Tho
 mas":https://www.southeastwheelsevents.com/profile/JackThomas
END:VEVENT
END:VCALENDAR
