BEGIN:VCALENDAR
PRODID:NingEventWidget-v1
VERSION:2.0
METHOD:PUBLISH
BEGIN:VTIMEZONE
TZID:Pacific/Midway
X-LIC-LOCATION:Pacific/Midway
BEGIN:STANDARD
TZOFFSETFROM:-1100
TZOFFSETTO:-1100
TZNAME:SST
DTSTART:19700101T000000
END:STANDARD
END:VTIMEZONE
BEGIN:VEVENT
UID:5072275:Event:1222723
DTSTAMP:20260424T024857Z
SUMMARY:Back The Blue Car Show at Year One -Braselton GA
DESCRIPTION:\"Back The Blue \" Car Show hosted at Year One in Braselto
 n GA . Sponsored by American Street Rodders, Dixie Cruisers, Master's,
  Street Masters and Old Friend Car Club.  Proceeds to benefit the Pol
 ice Benevolent Fund of GA. Providing Financial assistance to families 
 of fallen law enforcement officers in GA. Top 50 awards, Silent Auctio
 n50/50 drawing. Registration $20.00 at Event.\r\n\r\n\n\nFor more info
 rmation visit https://www.southeastwheelsevents.com/events/back-the-bl
 ue-car-show-at-year-one-braselton-ga-march-27th
DTSTART;TZID=Pacific/Midway:20210327T100000
DTEND;TZID=Pacific/Midway:20210327T150000
CATEGORIES:benefit, car, show
LOCATION:Year One Braselton GA
WEBSITE:https://www.facebook.com/events/432917411247234
URL:https://www.facebook.com/events/432917411247234
CONTACT:7706391750/ 6783138068
ORGANIZER:Shawn and Tony Crook
ATTACH;FMTTYPE="image/jpeg":https://storage.ning.com/topology/rest/1.0
 /file/get/8504182882?profile=original
ATTENDEE;ROLE=REQ-PARTICIPANT;PARTSTAT=ACCEPTED;RSVP=TRUE;CN="George B
 rosan":https://www.southeastwheelsevents.com/profile/GeorgeBrosan
ATTENDEE;ROLE=REQ-PARTICIPANT;PARTSTAT=ACCEPTED;RSVP=TRUE;CN="George G
 ilbert":https://www.southeastwheelsevents.com/profile/GeorgeGilbert
ATTENDEE;ROLE=REQ-PARTICIPANT;PARTSTAT=ACCEPTED;RSVP=TRUE;CN="Keith St
 ephenson":https://www.southeastwheelsevents.com/profile/KeithStephenso
 n
ATTENDEE;ROLE=REQ-PARTICIPANT;PARTSTAT=ACCEPTED;RSVP=TRUE;CN="Shawn Cr
 ook":https://www.southeastwheelsevents.com/profile/ShawnCrook
ATTENDEE;ROLE=REQ-PARTICIPANT;PARTSTAT=TENTATIVE;RSVP=TRUE;CN="John Ba
 ker":https://www.southeastwheelsevents.com/profile/JohnJBaker
ATTENDEE;ROLE=REQ-PARTICIPANT;PARTSTAT=TENTATIVE;RSVP=TRUE;CN="Jeffrey
  Rutherford":https://www.southeastwheelsevents.com/profile/JeffreyRuth
 erford866
END:VEVENT
END:VCALENDAR
