BEGIN:VCALENDAR
PRODID:NingEventWidget-v1
VERSION:2.0
METHOD:PUBLISH
BEGIN:VTIMEZONE
TZID:Pacific/Midway
X-LIC-LOCATION:Pacific/Midway
BEGIN:STANDARD
TZOFFSETFROM:-1100
TZOFFSETTO:-1100
TZNAME:SST
DTSTART:19700101T000000
END:STANDARD
END:VTIMEZONE
BEGIN:VEVENT
UID:5072275:Event:1202451
DTSTAMP:20260422T210406Z
SUMMARY:BACK THE BLUE CAR SHOW, LOGANVILLE, GA-OCTOBER 3, 2020
DESCRIPTION:\n\nFor more information visit https://www.southeastwheels
 events.com/events/back-the-blue-car-show-loganville-ga-october-3-2020
DTSTART;TZID=Pacific/Midway:20221008T093000
DTEND;TZID=Pacific/Midway:20221008T140000
CATEGORIES:car, show-fund, raiser, "$20.00", per
LOCATION:MAIN STREET-DOWNTOWN LOGANVILLE, GA
WEBSITE:
URL:
CONTACT:David Sparks 404-725-4960
ORGANIZER:
ATTACH;FMTTYPE="image/jpeg":https://storage.ning.com/topology/rest/1.0
 /file/get/7868342284?profile=original
ATTENDEE;ROLE=REQ-PARTICIPANT;PARTSTAT=ACCEPTED;RSVP=TRUE;CN="ray ande
 rson":https://www.southeastwheelsevents.com/profile/rayanderson
ATTENDEE;ROLE=REQ-PARTICIPANT;PARTSTAT=ACCEPTED;RSVP=TRUE;CN="John Bak
 er":https://www.southeastwheelsevents.com/profile/JohnJBaker
ATTENDEE;ROLE=REQ-PARTICIPANT;PARTSTAT=ACCEPTED;RSVP=TRUE;CN="Bill Dav
 is":https://www.southeastwheelsevents.com/profile/BillDavis353
ATTENDEE;ROLE=REQ-PARTICIPANT;PARTSTAT=ACCEPTED;RSVP=TRUE;CN="Fred Bot
 ts":https://www.southeastwheelsevents.com/profile/FredBotts
ATTENDEE;ROLE=REQ-PARTICIPANT;PARTSTAT=TENTATIVE;RSVP=TRUE;CN=Jeff:htt
 ps://www.southeastwheelsevents.com/profile/Jeff
END:VEVENT
END:VCALENDAR
