BEGIN:VCALENDAR
PRODID:NingEventWidget-v1
VERSION:2.0
METHOD:PUBLISH
BEGIN:VTIMEZONE
TZID:Pacific/Midway
X-LIC-LOCATION:Pacific/Midway
BEGIN:STANDARD
TZOFFSETFROM:-1100
TZOFFSETTO:-1100
TZNAME:SST
DTSTART:19700101T000000
END:STANDARD
END:VTIMEZONE
BEGIN:VEVENT
UID:5072275:Event:967499
DTSTAMP:20260419T230258Z
SUMMARY:Bad Boys Rod and Custom Annual Car Show. Pensacola, FL
DESCRIPTION:\r\nRain of Shine the Show goes on...it's all about the ch
 arities the Bad Boys contribute all monies collected.\n\nFor more info
 rmation visit https://www.southeastwheelsevents.com/events/bad-boys-ro
 d-and-custom-2nd-annual-car-show-pensacola-fl
DTSTART;TZID=Pacific/Midway:20220423T090000
DTEND;TZID=Pacific/Midway:20220423T150000
CATEGORIES:car, show, fundraiser
LOCATION:Hadji Shrine Temple
WEBSITE:
URL:
CONTACT:Marty 850-382-4022 or Fred 850-607-6869
ORGANIZER:Bad Boys Rod and Custom Club
ATTACH;FMTTYPE="image/jpeg":http://storage.ning.com/topology/rest/1.0/
 file/get/967707543?profile=original
ATTENDEE;ROLE=REQ-PARTICIPANT;PARTSTAT=ACCEPTED;RSVP=TRUE;CN="Marty Be
 st":https://www.southeastwheelsevents.com/profile/MartyBest
ATTENDEE;ROLE=REQ-PARTICIPANT;PARTSTAT=ACCEPTED;RSVP=TRUE;CN="Chuck Aa
 ron":https://www.southeastwheelsevents.com/profile/ChuckAaron886
END:VEVENT
END:VCALENDAR
