BEGIN:VCALENDAR
PRODID:NingEventWidget-v1
VERSION:2.0
METHOD:PUBLISH
BEGIN:VTIMEZONE
TZID:Pacific/Midway
X-LIC-LOCATION:Pacific/Midway
BEGIN:STANDARD
TZOFFSETFROM:-1100
TZOFFSETTO:-1100
TZNAME:SST
DTSTART:19700101T000000
END:STANDARD
END:VTIMEZONE
BEGIN:VEVENT
UID:5072275:Event:924306
DTSTAMP:20260425T024714Z
SUMMARY:Bailey's Car Show
DESCRIPTION:All cars are welcome.Registration is $20 from 12:30 to 3:3
 0pm with awards @ 4:30pm. Top 20,Best of show.this is a judged show wi
 th music and food , 50/50\n\nFor more information visit https://www.so
 utheastwheelsevents.com/events/bailey-s-car-show
DTSTART;TZID=Pacific/Midway:20150830T123000
DTEND;TZID=Pacific/Midway:20150830T163000
CATEGORIES:car, show
LOCATION:Bailey's sports bar and grill
WEBSITE:
URL:
CONTACT:www.allgencamaroclub.com
ORGANIZER:Upstate Camaro club
ATTACH;FMTTYPE="image/jpeg":http://storage.ning.com/topology/rest/1.0/
 file/get/967694405?profile=original
ATTENDEE;ROLE=REQ-PARTICIPANT;PARTSTAT=ACCEPTED;RSVP=TRUE;CN="Anthony 
 ":https://www.southeastwheelsevents.com/profile/Anthony477
END:VEVENT
END:VCALENDAR
