BEGIN:VCALENDAR
PRODID:NingEventWidget-v1
VERSION:2.0
METHOD:PUBLISH
BEGIN:VTIMEZONE
TZID:Pacific/Midway
X-LIC-LOCATION:Pacific/Midway
BEGIN:STANDARD
TZOFFSETFROM:-1100
TZOFFSETTO:-1100
TZNAME:SST
DTSTART:19700101T000000
END:STANDARD
END:VTIMEZONE
BEGIN:VEVENT
UID:5072275:Event:245920
DTSTAMP:20260420T105602Z
SUMMARY:Bama Coast Cruise, Orange Beach, AL
DESCRIPTION:Bring your dream ride and cruise the beach with us at\nthe
  2nd Annual Bama Coast Cruise presented by O'Reilly Auto Parts!\n\nMay
  19, 20 & 21, 2011\nOrange Beach Sportsplex\nOrange Beach, AL\n Don't
  miss your chance to cruise the beautiful Alabama Gulf Coast and enjoy
  your ride the way it was meant to be! \n\nNEW FOR 2011: $5,000 Cash 
 Prize Drawing! \nA Cash Prize Drawing will be held at 4:00 PM on Satu
 rday, May 21, 2011. All registered vehicles will receive a chance to w
 in. The earlier you register, the more chances you get, including 5 bo
 nus chances for registering by April 1st! See Registration Form for mo
 re info at www.bamacoastcruise.com.\n\n$1,000 Poker Run!\n$500 to Best
  Hand - $200 each to 2nd & 3rd - $100 to 4th\nShow & Shine!\n\nSee the
  cars! Shop the vendors and enjoy the amazing and beautiful City of Or
 ange Beach with dozens of shops and restaurants all around this event!
 \n\nLive DJ\nJudging for \"Top 25\"\nParade Cruise\n\nVisit www.bamaco
 astcruise.com for more info and for a registration form.\n\nFor more i
 nformation visit https://www.southeastwheelsevents.com/events/bama-coa
 st-cruise-orange-beach-1
DTSTART;TZID=Pacific/Midway:20110519T120000
DTEND;TZID=Pacific/Midway:20110521T170000
CATEGORIES:out, door, car, show
LOCATION:Orange Beach Sportsplex, Orange Beach, AL
WEBSITE:http://www.obparksandrec.com/sportsfacilities/sportsplex.html
URL:http://www.obparksandrec.com/sportsfacilities/sportsplex.html
CONTACT:On \"Contact Us\" page of our website
ORGANIZER;CN="Sonny McLean":https://www.southeastwheelsevents.com/prof
 ile/SonnyMcLean
ATTACH;FMTTYPE="image/jpeg":http://storage.ning.com/topology/rest/1.0/
 file/get/967596616?profile=original
ATTENDEE;ROLE=REQ-PARTICIPANT;PARTSTAT=ACCEPTED;RSVP=TRUE;CN="Sonny Mc
 Lean":https://www.southeastwheelsevents.com/profile/SonnyMcLean
END:VEVENT
END:VCALENDAR
