BEGIN:VCALENDAR
PRODID:NingEventWidget-v1
VERSION:2.0
METHOD:PUBLISH
BEGIN:VTIMEZONE
TZID:Pacific/Midway
X-LIC-LOCATION:Pacific/Midway
BEGIN:STANDARD
TZOFFSETFROM:-1100
TZOFFSETTO:-1100
TZNAME:SST
DTSTART:19700101T000000
END:STANDARD
END:VTIMEZONE
BEGIN:VEVENT
UID:5072275:Event:515566
DTSTAMP:20260421T121650Z
SUMMARY:Bangin At The Bear -Fayetteville, TN
DESCRIPTION:www.mecacaraudio.com/flyers/6-17-12TN.jpg \nregistration 
 10am... judging at 10:30 am until ?\n\n2X double point Sanctioned even
 t \ndjcaraudio01@yahoo.com\nShow N Shine\n\n\n\nFor more information 
 visit https://www.southeastwheelsevents.com/events/bangin-at-the-bear
DTSTART;TZID=Pacific/Midway:20120617T000000
DTEND;TZID=Pacific/Midway:20120617T235900
CATEGORIES:show, "&", shine, "car/truck", audio, contest
LOCATION:Bear Claw Paint Ball
WEBSITE:http://www.mecacaraudio.com/flyers/6-17-12TN.jpg
URL:http://www.mecacaraudio.com/flyers/6-17-12TN.jpg
CONTACT:931-433-0333
ORGANIZER:Team B.Y.O.B.
ATTACH;FMTTYPE="image/jpeg":http://storage.ning.com/topology/rest/1.0/
 file/get/967611278?profile=original
ATTENDEE;ROLE=REQ-PARTICIPANT;PARTSTAT=ACCEPTED;RSVP=TRUE;CN="Selena R
 ozzo":https://www.southeastwheelsevents.com/profile/SelenaRozzo
END:VEVENT
END:VCALENDAR
