BEGIN:VCALENDAR
PRODID:NingEventWidget-v1
VERSION:2.0
METHOD:PUBLISH
BEGIN:VTIMEZONE
TZID:Pacific/Midway
X-LIC-LOCATION:Pacific/Midway
BEGIN:STANDARD
TZOFFSETFROM:-1100
TZOFFSETTO:-1100
TZNAME:SST
DTSTART:19700101T000000
END:STANDARD
END:VTIMEZONE
BEGIN:VEVENT
UID:5072275:Event:16500
DTSTAMP:20260424T152200Z
SUMMARY:Baptist Church Car, Truck & Motorcycle Show & Swap Meet -Sarge
 nt, GA
DESCRIPTION:Baptist Church Car, Truck & Motorcycle Show & Swap Meet -S
 argent, GA\nInfo Jerry Cochran 770-253-6641 or Robert Manus 770-252-77
 25\n\nFor more information visit https://www.southeastwheelsevents.com
 /events/baptist-church-car-truck
DTSTART;TZID=Pacific/Midway:20100417T080000
DTEND;TZID=Pacific/Midway:20100417T140000
CATEGORIES:car-show, swap-meet
LOCATION:Sargent Baptist Church
WEBSITE:
URL:
CONTACT:Jerry Cochran 770-253-6641 or Robert Manus 770-252-7725
ORGANIZER:Sargent Baptist Church
ATTACH;FMTTYPE="image/jpeg":http://storage.ning.com/topology/rest/1.0/
 file/get/967575166?profile=original
ATTENDEE;ROLE=REQ-PARTICIPANT;PARTSTAT=ACCEPTED;RSVP=TRUE;CN="Michael 
 Thies":https://www.southeastwheelsevents.com/profile/MichaelThies
END:VEVENT
END:VCALENDAR
