BEGIN:VCALENDAR
PRODID:NingEventWidget-v1
VERSION:2.0
METHOD:PUBLISH
BEGIN:VTIMEZONE
TZID:Pacific/Midway
X-LIC-LOCATION:Pacific/Midway
BEGIN:STANDARD
TZOFFSETFROM:-1100
TZOFFSETTO:-1100
TZNAME:SST
DTSTART:19700101T000000
END:STANDARD
END:VTIMEZONE
BEGIN:VEVENT
UID:5072275:Event:10405
DTSTAMP:20260421T110911Z
SUMMARY:Barnesville Cruise In - Barnesville, GA
DESCRIPTION:Every 4th Saturday - May through October  Trophies, Door 
 prizes, 50/50 drawing and more! Event is FREE!\n\nFor more information
  visit https://www.southeastwheelsevents.com/events/barnesville-cruise
 -in-1
DTSTART;TZID=Pacific/Midway:20171028T160000
DTEND;TZID=Pacific/Midway:20171028T200000
CATEGORIES:cruise, in
LOCATION:First National Bank
WEBSITE:http://www.barnesville.org
URL:http://www.barnesville.org
CONTACT:770-358-5884
ORGANIZER;CN="Amanda Rose":https://www.southeastwheelsevents.com/profi
 le/AmandaRose
ATTACH;FMTTYPE="image/jpeg":http://storage.ning.com/topology/rest/1.0/
 file/get/967570561?profile=original
ATTENDEE;ROLE=REQ-PARTICIPANT;PARTSTAT=ACCEPTED;RSVP=TRUE;CN="Chuck Aa
 ron":https://www.southeastwheelsevents.com/profile/ChuckAaron886
ATTENDEE;ROLE=REQ-PARTICIPANT;PARTSTAT=ACCEPTED;RSVP=TRUE;CN="Amanda R
 ose":https://www.southeastwheelsevents.com/profile/AmandaRose
END:VEVENT
END:VCALENDAR
