BEGIN:VCALENDAR
PRODID:NingEventWidget-v1
VERSION:2.0
METHOD:PUBLISH
BEGIN:VTIMEZONE
TZID:Pacific/Midway
X-LIC-LOCATION:Pacific/Midway
BEGIN:STANDARD
TZOFFSETFROM:-1100
TZOFFSETTO:-1100
TZNAME:SST
DTSTART:19700101T000000
END:STANDARD
END:VTIMEZONE
BEGIN:VEVENT
UID:5072275:Event:881941
DTSTAMP:20260425T171103Z
SUMMARY:Barrett-Jackson Palm Beach Auction -West Palm Beach, FL
DESCRIPTION:\n\nBarrett-Jackson specializes in providing products and 
 services to astute classic and collector car owners and automotive ent
 husiasts around the world. Barrett-Jackson produces The World's Great
 est Collector Car Auctions™ in Scottsdale, Arizona, Palm Beach, Flo
 rida, Reno/Tahoe, Nevada, and Las Vegas, Nevada, where hundreds of the
  most sought-after, unique and valuable automobiles cross the block in
  front of a global audience.\nWith an unprecedented expert staff, incl
 uding Craig Jackson, Steve Davis and Gary Bennett, who have over 1
 30 years of combined experience in the automotive field, Barrett-Jacks
 on offers the most diverse and desirable inventory, accompanied with t
 rustworthy and transparent customer service.\nBarrett-Jackson also end
 orses a one-of-a-kind collector car insurance offering for collector v
 ehicles and other valued belongings.\n\n\nFor more information visit h
 ttps://www.southeastwheelsevents.com/events/barrett-jackson-palm-beach
 -auction-west-palm-beach-fl
DTSTART;TZID=Pacific/Midway:20150417T000000
DTEND;TZID=Pacific/Midway:20150419T235900
CATEGORIES:various, auctions, "&", car, shows
LOCATION:South Florida Fairgrounds
WEBSITE:http://www.barrett-jackson.com/Events/Event/Home/PalmBeach-201
 5/0681aef3-341f-446a-bdb4-0da61be899f7
URL:http://www.barrett-jackson.com/Events/Event/Home/PalmBeach-2015/06
 81aef3-341f-446a-bdb4-0da61be899f7
CONTACT:(480) 421-6694
ORGANIZER:Barrett-Jackson Auction Company
ATTACH;FMTTYPE="image/jpeg":http://storage.ning.com/topology/rest/1.0/
 file/get/967679789?profile=original
ATTENDEE;ROLE=REQ-PARTICIPANT;PARTSTAT=ACCEPTED;RSVP=TRUE;CN="Chuck Aa
 ron":https://www.southeastwheelsevents.com/profile/ChuckAaron
END:VEVENT
END:VCALENDAR
