BEGIN:VCALENDAR
PRODID:NingEventWidget-v1
VERSION:2.0
METHOD:PUBLISH
BEGIN:VTIMEZONE
TZID:Pacific/Midway
X-LIC-LOCATION:Pacific/Midway
BEGIN:STANDARD
TZOFFSETFROM:-1100
TZOFFSETTO:-1100
TZNAME:SST
DTSTART:19700101T000000
END:STANDARD
END:VTIMEZONE
BEGIN:VEVENT
UID:5072275:Event:1026064
DTSTAMP:20260422T212701Z
SUMMARY:Baton Rouge LOH Dinner & Meeting
DESCRIPTION:Baton Rouge LOH Dinner & Meeting will happen at Walk-On's 
 Bistreaux & Bar. Schedule: Dinner at 6:00 PM, Meeting at 7:00 PM. Meet
 ing end time may change.\n\nFor more information visit https://www.sou
 theastwheelsevents.com/events/baton-rouge-loh-dinner-meeting
DTSTART;TZID=Pacific/Midway:20161220T180000
DTEND;TZID=Pacific/Midway:20161220T210000
CATEGORIES:motorcycles, "clubs/shows/cruises"
LOCATION:Walk-On's Bistreaux & Bar
WEBSITE:http://www.brhog.com/event-calendar.html
URL:http://www.brhog.com/event-calendar.html
CONTACT:
ORGANIZER:Baton Rouge HOG
ATTACH;FMTTYPE="image/jpeg":http://storage.ning.com/topology/rest/1.0/
 file/get/967720998?profile=original
ATTENDEE;ROLE=REQ-PARTICIPANT;PARTSTAT=ACCEPTED;RSVP=TRUE;CN="Chris go
 sney":https://www.southeastwheelsevents.com/profile/Chrisgosney
END:VEVENT
END:VCALENDAR
