BEGIN:VCALENDAR
PRODID:NingEventWidget-v1
VERSION:2.0
METHOD:PUBLISH
BEGIN:VTIMEZONE
TZID:Pacific/Midway
X-LIC-LOCATION:Pacific/Midway
BEGIN:STANDARD
TZOFFSETFROM:-1100
TZOFFSETTO:-1100
TZNAME:SST
DTSTART:19700101T000000
END:STANDARD
END:VTIMEZONE
BEGIN:VEVENT
UID:5072275:Event:135894
DTSTAMP:20260424T123200Z
SUMMARY:Battle at the Beach Car Show -Conway, SC
DESCRIPTION:Battle at the BeachKOSS MOTORSPORTS -N- CCU CUSTOMSCAR SHO
 W N SOUND OFFAll Shows covered on KMS Car Show Connection TV A weekly
  TV show on WHKY www.kossmotorsports.com for more infoTriple Point Sho
 w04-03-2011 Time 1000AM to 300PMCostal Carolina University100 Spadoni 
 Pk CircleConway, SC 29526ART, CRAFTS, LIVE MUSIC, RIDES, GAMES, FOOD,K
 IDS INFLATABLESSOMETHING FOR THE WHOLE FAMILY.Car Show 125+ Classes & 
 True SPL Sound Off$25.00 Entry FeeMore Info: www.kossmotorsports.com o
 r call Steve 803-320-3193always check out web site to make sure the ev
 ent was not changed or canceled3rd Year Show\n\nFor more information v
 isit https://www.southeastwheelsevents.com/events/battle-at-the-beach-
 car-show
DTSTART;TZID=Pacific/Midway:20110403T100000
DTEND;TZID=Pacific/Midway:20110403T150000
CATEGORIES:car, show, fundraiser
LOCATION:Costal Carolina University
WEBSITE:http://www.kossmotorsports.com
URL:http://www.kossmotorsports.com
CONTACT:803-320-3193
ORGANIZER;CN="Tour Delux Rally":https://www.southeastwheelsevents.com/
 profile/Steve
ATTACH;FMTTYPE="image/jpeg":
ATTENDEE;ROLE=REQ-PARTICIPANT;PARTSTAT=ACCEPTED;RSVP=TRUE;CN="Tour Del
 ux Rally":https://www.southeastwheelsevents.com/profile/Steve
END:VEVENT
END:VCALENDAR
