BEGIN:VCALENDAR
PRODID:NingEventWidget-v1
VERSION:2.0
METHOD:PUBLISH
BEGIN:VTIMEZONE
TZID:Pacific/Midway
X-LIC-LOCATION:Pacific/Midway
BEGIN:STANDARD
TZOFFSETFROM:-1100
TZOFFSETTO:-1100
TZNAME:SST
DTSTART:19700101T000000
END:STANDARD
END:VTIMEZONE
BEGIN:VEVENT
UID:5072275:Event:743091
DTSTAMP:20260423T105910Z
SUMMARY:Bay British Cars Annual Show
DESCRIPTION:We will be having our annual show in conjunction with the 
 Scottish Festival at Grace Presbyterian Church at the intersection of 
 Airport and Lisenby.  We will start at 10:00 and it ends around 4.\n\
 nFor more information visit https://www.southeastwheelsevents.com/even
 ts/bay-british-cars-annual-show-1
DTSTART;TZID=Pacific/Midway:20140308T000000
DTEND;TZID=Pacific/Midway:20140308T235900
CATEGORIES:annual, car, show
LOCATION:Airport and Lisenby
WEBSITE:http://www.baybritishcars.com
URL:http://www.baybritishcars.com
CONTACT:8502308336
ORGANIZER;CN="Ken Waringa":https://www.southeastwheelsevents.com/profi
 le/KenWaringa
ATTACH;FMTTYPE="image/jpeg":
ATTENDEE;ROLE=REQ-PARTICIPANT;PARTSTAT=ACCEPTED;RSVP=TRUE;CN="Ken Wari
 nga":https://www.southeastwheelsevents.com/profile/KenWaringa
END:VEVENT
END:VCALENDAR
