BEGIN:VCALENDAR
PRODID:NingEventWidget-v1
VERSION:2.0
METHOD:PUBLISH
BEGIN:VTIMEZONE
TZID:Pacific/Midway
X-LIC-LOCATION:Pacific/Midway
BEGIN:STANDARD
TZOFFSETFROM:-1100
TZOFFSETTO:-1100
TZNAME:SST
DTSTART:19700101T000000
END:STANDARD
END:VTIMEZONE
BEGIN:VEVENT
UID:5072275:Event:426220
DTSTAMP:20260424T135736Z
SUMMARY:Bayview Garage Swap Meet -Columbia,SC
DESCRIPTION:Bayview Garage Auto Swap  Meet, Columbia's  first  Auto
   Swap Meet.  come  bring  your old parts  and  cars  and  sel
 l them  at our  monthly  event. spaces are  $30.00 for swap meet i
 tems ,$35.00 for  car selling  spaces. Free  admission for  buyers
 . for  more info  and to  reserve  your  space call -803-463-5756
 \n\nFor more information visit https://www.southeastwheelsevents.com/e
 vents/bayview-garage-swap-meet
DTSTART;TZID=Pacific/Midway:20111029T090000
DTEND;TZID=Pacific/Midway:20111029T160000
CATEGORIES:auto, swap, meet
LOCATION:Columbia, SC
WEBSITE:http://cartoysautospa.com
URL:http://cartoysautospa.com
CONTACT:803-463-5756
ORGANIZER;CN="curran stone":https://www.southeastwheelsevents.com/prof
 ile/curranstone
ATTACH;FMTTYPE="image/jpeg":http://storage.ning.com/topology/rest/1.0/
 file/get/967599557?profile=original
ATTENDEE;ROLE=REQ-PARTICIPANT;PARTSTAT=ACCEPTED;RSVP=TRUE;CN="curran s
 tone":https://www.southeastwheelsevents.com/profile/curranstone
END:VEVENT
END:VCALENDAR
