BEGIN:VCALENDAR
PRODID:NingEventWidget-v1
VERSION:2.0
METHOD:PUBLISH
BEGIN:VTIMEZONE
TZID:Pacific/Midway
X-LIC-LOCATION:Pacific/Midway
BEGIN:STANDARD
TZOFFSETFROM:-1100
TZOFFSETTO:-1100
TZNAME:SST
DTSTART:19700101T000000
END:STANDARD
END:VTIMEZONE
BEGIN:VEVENT
UID:5072275:Event:169663
DTSTAMP:20260422T025231Z
SUMMARY:Bear on the Square Motor & Music Festival, Dahlonega, GA
DESCRIPTION:April 16 & 17 2011  Dahlonega, GA. Bear on the Square Mus
 ic/Motor Festival Saturday 10-5pm.  200 Car Show at Lumpkin County Ad
 min/Library Complex  (2 blocks east of the square on E. Main St).  U
 nique Top 25 Class Awards.  Enjoy Music Groups throughout the downtow
 n shop & restaurant areas throughout the weekend.\n \nSunday 10am Cru
 ise Out over Richard Russell Hwy to Babyland General & Frogtown Cellar
 s luncheon.  Starts at the Wagon Wheel breakfast on N.Grove St (1 mil
 e north of the Square).  Info:  770 843-6477cell       Stay up
  to date at dahlonegacarclub.com\n\nFor more information visit https:/
 /www.southeastwheelsevents.com/events/bear-on-the-square-motor
DTSTART;TZID=Pacific/Midway:20110416T100000
DTEND;TZID=Pacific/Midway:20110416T160000
CATEGORIES:car, show, "&", cruise, out, weekend
LOCATION:Downtown Lumpkin County \"Old\" Courthouse/Library on E.Main
WEBSITE:http://dahlonegacarclub.com
URL:http://dahlonegacarclub.com
CONTACT:706 843-6477
ORGANIZER:Tully Johnstone/Gold City Classic Car Club
ATTACH;FMTTYPE="image/jpeg":http://storage.ning.com/topology/rest/1.0/
 file/get/967592302?profile=original
ATTENDEE;ROLE=REQ-PARTICIPANT;PARTSTAT=ACCEPTED;RSVP=TRUE;CN="Mike & B
 everly Raznoff":https://www.southeastwheelsevents.com/profile/BeverlyR
 aznoff
ATTENDEE;ROLE=REQ-PARTICIPANT;PARTSTAT=ACCEPTED;RSVP=TRUE;CN="Don Barn
 es":https://www.southeastwheelsevents.com/profile/DonBarnes
ATTENDEE;ROLE=REQ-PARTICIPANT;PARTSTAT=ACCEPTED;RSVP=TRUE;CN="Tully Jo
 hnstone":https://www.southeastwheelsevents.com/profile/TullyJohnstone
ATTENDEE;ROLE=REQ-PARTICIPANT;PARTSTAT=TENTATIVE;RSVP=TRUE;CN="larry s
 haw":https://www.southeastwheelsevents.com/profile/larryshaw
END:VEVENT
END:VCALENDAR
