BEGIN:VCALENDAR
PRODID:NingEventWidget-v1
VERSION:2.0
METHOD:PUBLISH
BEGIN:VTIMEZONE
TZID:Pacific/Midway
X-LIC-LOCATION:Pacific/Midway
BEGIN:STANDARD
TZOFFSETFROM:-1100
TZOFFSETTO:-1100
TZNAME:SST
DTSTART:19700101T000000
END:STANDARD
END:VTIMEZONE
BEGIN:VEVENT
UID:5072275:Event:530833
DTSTAMP:20260424T100300Z
SUMMARY:Belk Susan G. Komen Car Show -Cummng, GA
DESCRIPTION:The June 23rd show has been cancelled and re-scheduled for
  September 29,2012. Sorry for any inconvienience. Cars will judged and
  trophies will be given for several categories. We look forward to see
 ing you there.\n\nFor more information visit https://www.southeastwhee
 lsevents.com/events/belk-susan-g-komen-car-show
DTSTART;TZID=Pacific/Midway:20120929T080000
DTEND;TZID=Pacific/Midway:20120929T140000
CATEGORIES:fundraiser
LOCATION:Belk Department Store in Cumming, Georgia
WEBSITE:
URL:
CONTACT:770-889-5998
ORGANIZER:Ashley Rice/Ronnie Parker
ATTACH;FMTTYPE="image/jpeg":
ATTENDEE;ROLE=REQ-PARTICIPANT;PARTSTAT=ACCEPTED;RSVP=TRUE;CN="Ronnie P
 arker":https://www.southeastwheelsevents.com/profile/RonnieParker
ATTENDEE;ROLE=REQ-PARTICIPANT;PARTSTAT=TENTATIVE;RSVP=TRUE;CN="scott m
 cclain":https://www.southeastwheelsevents.com/profile/brianscottmcclai
 n
ATTENDEE;ROLE=REQ-PARTICIPANT;PARTSTAT=TENTATIVE;RSVP=TRUE;CN="Rodney 
 Wallin":https://www.southeastwheelsevents.com/profile/Rodneywallin
ATTENDEE;ROLE=REQ-PARTICIPANT;PARTSTAT=TENTATIVE;RSVP=TRUE;CN="Bill mu
 sarra":https://www.southeastwheelsevents.com/profile/billmusarra
ATTENDEE;ROLE=REQ-PARTICIPANT;PARTSTAT=TENTATIVE;RSVP=TRUE;CN="Mike & 
 Beverly Raznoff":https://www.southeastwheelsevents.com/profile/Beverly
 Raznoff
END:VEVENT
END:VCALENDAR
