BEGIN:VCALENDAR
PRODID:NingEventWidget-v1
VERSION:2.0
METHOD:PUBLISH
BEGIN:VTIMEZONE
TZID:Pacific/Midway
X-LIC-LOCATION:Pacific/Midway
BEGIN:STANDARD
TZOFFSETFROM:-1100
TZOFFSETTO:-1100
TZNAME:SST
DTSTART:19700101T000000
END:STANDARD
END:VTIMEZONE
BEGIN:VEVENT
UID:5072275:Event:688846
DTSTAMP:20260423T150819Z
SUMMARY:BEN'S ANTIQUES & MARKET CAR SHOW & SWAP MEET -Fayetteville, GA
DESCRIPTION:BEN'S ANTIQUES MARKET  WILL HOLD IT'S 1ST.CAR SHOW NOVEMB
 ER 2ND.2013   10-3 CAR SHOW 9-4 SWAP MEET.ALL VEHICLES WELCOME.ALL V
 ENDORS WELCOME.RAIN OR SHINE.TOP 20 PLUS BEST OF AWARDS,DASH PLAQUES,D
 OOR PRIZES, MUSIC,FOOD,GOODY BAGS,50/50 & MORE.COME ON OUT WEATHER SHO
 ULD BE NICE.MORE INFO : MARY 706-668-7731 OR email : rdcoupe@gmail.com
  \n\nFor more information visit https://www.southeastwheelsevents.com
 /events/ben-s-antiques-market-car-show-swap-meet
DTSTART;TZID=Pacific/Midway:20131102T090000
DTEND;TZID=Pacific/Midway:20131102T160000
CATEGORIES:car, show, "&", swap, meet
LOCATION:BEN'S ANTIQUES & MARKET OLD HOBBY LOBBY BUILDING
WEBSITE:
URL:
CONTACT:706-668-7731
ORGANIZER;CN="mary davenport":https://www.southeastwheelsevents.com/pr
 ofile/marydavenport
ATTACH;FMTTYPE="image/jpeg":
ATTENDEE;ROLE=REQ-PARTICIPANT;PARTSTAT=ACCEPTED;RSVP=TRUE;CN="mary dav
 enport":https://www.southeastwheelsevents.com/profile/marydavenport
END:VEVENT
END:VCALENDAR
