BEGIN:VCALENDAR
PRODID:NingEventWidget-v1
VERSION:2.0
METHOD:PUBLISH
BEGIN:VTIMEZONE
TZID:Pacific/Midway
X-LIC-LOCATION:Pacific/Midway
BEGIN:STANDARD
TZOFFSETFROM:-1100
TZOFFSETTO:-1100
TZNAME:SST
DTSTART:19700101T000000
END:STANDARD
END:VTIMEZONE
BEGIN:VEVENT
UID:5072275:Event:1237790
DTSTAMP:20260422T081143Z
SUMMARY:Benefit car show for Children's Healthcare of Atlanta
DESCRIPTION:Dogwood Dental is proud to sponsor this charity event wher
 e you can admire a variety of interesting models or even show off your
  own! All proceeds from this event will go to the dentistry department
  at Children's Healthcare of Atlanta, so come see the best of the auto
  industry while supporting a great cause!\n\nFor more information visi
 t https://www.southeastwheelsevents.com/events/benefit-car-show-for-ch
 ildren-s-healthcare-of-atlanta
DTSTART;TZID=Pacific/Midway:20221015T090000
DTEND;TZID=Pacific/Midway:20221015T130000
CATEGORIES:charity, car, show
LOCATION:Dogwood Dental
WEBSITE:https://www.dogwooddental.com/patient-resources/events/
URL:https://www.dogwooddental.com/patient-resources/events/
CONTACT:7709266886
ORGANIZER;CN="Eric Jacobs":https://www.southeastwheelsevents.com/profi
 le/EricJacobs
ATTACH;FMTTYPE="image/jpeg":https://storage.ning.com/topology/rest/1.0
 /file/get/10776976053?profile=original
ATTENDEE;ROLE=REQ-PARTICIPANT;PARTSTAT=ACCEPTED;RSVP=TRUE;CN="gerry po
 irier":https://www.southeastwheelsevents.com/profile/gerrypoirier
ATTENDEE;ROLE=REQ-PARTICIPANT;PARTSTAT=ACCEPTED;RSVP=TRUE;CN="Eric Jac
 obs":https://www.southeastwheelsevents.com/profile/EricJacobs
END:VEVENT
END:VCALENDAR
