BEGIN:VCALENDAR
PRODID:NingEventWidget-v1
VERSION:2.0
METHOD:PUBLISH
BEGIN:VTIMEZONE
TZID:Pacific/Midway
X-LIC-LOCATION:Pacific/Midway
BEGIN:STANDARD
TZOFFSETFROM:-1100
TZOFFSETTO:-1100
TZNAME:SST
DTSTART:19700101T000000
END:STANDARD
END:VTIMEZONE
BEGIN:VEVENT
UID:5072275:Event:494870
DTSTAMP:20260423T164841Z
SUMMARY:Benefit Car, Truck and Motorcycle Show for Georgia Cancer Supp
 ort Group -Milledgeville, GA
DESCRIPTION:Benefit Car, Truck & Motorcycle Show Hosted by Old Capital
  Car Club of Milledgeville, GA to benefit The Georgia Cancer Support,
  Inc and The Faith, Hope & Love Cancer Support Group of Milledgeville
 , to directly benefit cancer patients in Georgia. \n \nPlaques for B
 est Car, Best Truck, Best Motorcycle.  Ribbons for Best Interior, Bes
 t Paint, Best Engine & Top 25.\n \n\nFor more information visit https
 ://www.southeastwheelsevents.com/events/benefit-car-truck-and-motorcyc
 le-show-for-georgia-cancer-support
DTSTART;TZID=Pacific/Midway:20120414T090000
DTEND;TZID=Pacific/Midway:20120414T160000
CATEGORIES:benefit, car, truck, "&", motorcycle, show
LOCATION:WalMart Shopping Center Parking Lot,
WEBSITE:
URL:
CONTACT:478-453-0295 or 478-457-7717 or 478-457-7718
ORGANIZER;CN="John W Griffin":https://www.southeastwheelsevents.com/pr
 ofile/JohnWGriffin
ATTACH;FMTTYPE="image/jpeg":
ATTENDEE;ROLE=REQ-PARTICIPANT;PARTSTAT=ACCEPTED;RSVP=TRUE;CN="John W G
 riffin":https://www.southeastwheelsevents.com/profile/JohnWGriffin
END:VEVENT
END:VCALENDAR
