BEGIN:VCALENDAR
PRODID:NingEventWidget-v1
VERSION:2.0
METHOD:PUBLISH
BEGIN:VTIMEZONE
TZID:Pacific/Midway
X-LIC-LOCATION:Pacific/Midway
BEGIN:STANDARD
TZOFFSETFROM:-1100
TZOFFSETTO:-1100
TZNAME:SST
DTSTART:19700101T000000
END:STANDARD
END:VTIMEZONE
BEGIN:VEVENT
UID:5072275:Event:849922
DTSTAMP:20260424T020043Z
SUMMARY:Benefit for the \"SAVE THE ACWORTH DEPOT FOUNDATION\"
DESCRIPTION:\nAnother MACK TURNER - DAN WADE collaboration.\nGREAT CAR
 S, GREAT FOOD, and LOTSA FUN!!!!\n\nSponsored by \"PEP BOYS\" - Manny,
  Moe, AND Jack ! ! !\n\nÂ Â Â Â Â Â  Â  Â  Â  Â  Â Â  Â Â Â Â  Profess
 ional Judging\n\nÂ Â Â Â Â Â Â Â Â Â Â Â Â Â Â Â Â Â Â Â Â Â Â Â Â Â Â
  Â Â Â Â Â  AWARDS\n\nÂ Â Â Â Â Â Â Â Â Â Â Â Â Â Â Â Â Â Â Â Â Â Â Â 
 Â Â Â Â Â Â Â Â Â  TOP 15\nÂ Â Â Â Â Â Â Â Â  SAVE THE ACWORTH DEPOT C
 HOICE\nÂ Â Â Â Â Â Â Â Â Â Â Â Â Â Â Â Â Â Â Â Â Â Â Â  HOOTERS CHOICE
 \nÂ Â Â Â Â Â Â Â Â Â Â Â Â Â Â Â Â Â Â Â Â Â Â Â Â Â  BEST OF SHOW\n\
 nÂ Â Â Â Â Â Â Â Â Â Â Â  DJ - DOOR PRIZES - 50/50 Drawing\n\nÂ Â Â Â 
 Â Â Â Â Â Â Â Â Â Â Â Â  Registration - $20 At The Show\n\nFor MORE in
 fo - Contact MACK TURNER - 770-546-7511\n\n\n\n\n\n\n\n\nFor more info
 rmation visit https://www.southeastwheelsevents.com/events/benefit-for
 -the-save-the-acworth-depot-foundation
DTSTART;TZID=Pacific/Midway:20141206T100000
DTEND;TZID=Pacific/Midway:20141206T150000
CATEGORIES:benefit, for, the, "\"save", acworth, "depot'", foundation
LOCATION:HOOTERS, Kennesaw, GA
WEBSITE:
URL:
CONTACT:770-546-7511
ORGANIZER:Mack Turner
ATTACH;FMTTYPE="image/jpeg":http://storage.ning.com/topology/rest/1.0/
 file/get/967674658?profile=original
ATTENDEE;ROLE=REQ-PARTICIPANT;PARTSTAT=ACCEPTED;RSVP=TRUE;CN="Snitch A
 dams":https://www.southeastwheelsevents.com/profile/SnitchAdams
ATTENDEE;ROLE=REQ-PARTICIPANT;PARTSTAT=ACCEPTED;RSVP=TRUE;CN="Michael 
 Thies":https://www.southeastwheelsevents.com/profile/MichaelThies
ATTENDEE;ROLE=REQ-PARTICIPANT;PARTSTAT=ACCEPTED;RSVP=TRUE;CN="Michael 
 Ruffalo":https://www.southeastwheelsevents.com/profile/MichaelRuffalo
ATTENDEE;ROLE=REQ-PARTICIPANT;PARTSTAT=ACCEPTED;RSVP=TRUE;CN="Mack Tur
 ner":https://www.southeastwheelsevents.com/profile/MackTurner687
ATTENDEE;ROLE=REQ-PARTICIPANT;PARTSTAT=TENTATIVE;RSVP=TRUE;CN="Jeffrey
  Rutherford":https://www.southeastwheelsevents.com/profile/JeffreyRuth
 erford866
ATTENDEE;ROLE=REQ-PARTICIPANT;PARTSTAT=TENTATIVE;RSVP=TRUE;CN="JP Brad
 y":https://www.southeastwheelsevents.com/profile/jpbrady
END:VEVENT
END:VCALENDAR
