BEGIN:VCALENDAR
PRODID:NingEventWidget-v1
VERSION:2.0
METHOD:PUBLISH
BEGIN:VTIMEZONE
TZID:Pacific/Midway
X-LIC-LOCATION:Pacific/Midway
BEGIN:STANDARD
TZOFFSETFROM:-1100
TZOFFSETTO:-1100
TZNAME:SST
DTSTART:19700101T000000
END:STANDARD
END:VTIMEZONE
BEGIN:VEVENT
UID:5072275:Event:576743
DTSTAMP:20260423T041751Z
SUMMARY:Benefit Ride for David Lieving -Cartersville, GA
DESCRIPTION:Benefit Ride for David Lieving Sponsored by Harley-Davidso
 n of Cartersville The ride starts at 2281 Highway 411 NE in Cartersvil
 le. Registration begins at 9:30 am. This a benefit ride. For more info
 rmation call (770) 547-6871, or go to http://www.hdcartersville.com/b
 enefit-ride-for-david-lieving.htm.\n\nFor more information visit https
 ://www.southeastwheelsevents.com/events/benefit-ride-for-david-lieving
 -cartersville-ga
DTSTART;TZID=Pacific/Midway:20121103T093000
DTEND;TZID=Pacific/Midway:20121103T170000
CATEGORIES:cycle, ride
LOCATION:2281 Highway 411 NE
WEBSITE:http://www.hdcartersville.com/benefit-ride-for-david-lieving.h
 tm.
URL:http://www.hdcartersville.com/benefit-ride-for-david-lieving.htm.
CONTACT:(770) 547-6871
ORGANIZER:Harley-Davidson of Cartersville
ATTACH;FMTTYPE="image/jpeg":http://storage.ning.com/topology/rest/1.0/
 file/get/967627385?profile=original
ATTENDEE;ROLE=REQ-PARTICIPANT;PARTSTAT=ACCEPTED;RSVP=TRUE;CN="Michael 
 Thies":https://www.southeastwheelsevents.com/profile/MichaelThies
END:VEVENT
END:VCALENDAR
