BEGIN:VCALENDAR
PRODID:NingEventWidget-v1
VERSION:2.0
METHOD:PUBLISH
BEGIN:VTIMEZONE
TZID:Pacific/Midway
X-LIC-LOCATION:Pacific/Midway
BEGIN:STANDARD
TZOFFSETFROM:-1100
TZOFFSETTO:-1100
TZNAME:SST
DTSTART:19700101T000000
END:STANDARD
END:VTIMEZONE
BEGIN:VEVENT
UID:5072275:Event:1270888
DTSTAMP:20260419T052226Z
SUMMARY:Beyond the Ribbon presents \"Cars and Cause\"
DESCRIPTION:Please join us as Beyond the Ribbon raises awareness and f
 unds for individuals that have been diagnosed with cancer. In a partne
 rship with Andretti's Buford, after the car show enjoy watching the Fo
 rmula 1 Race on the big screen\n\nFor more information visit https://w
 ww.southeastwheelsevents.com/events/beyond-the-ribbon-presents-cars-an
 d-cause
DTSTART;TZID=Pacific/Midway:20251019T110000
DTEND;TZID=Pacific/Midway:20251019T143000
CATEGORIES:car, show
LOCATION:Andrett's Buford Indoor Karting and Games
WEBSITE:https://bit.ly/46Fz7Kx
URL:https://bit.ly/46Fz7Kx
CONTACT:4042742024
ORGANIZER;CN="Bobbie Menneg":https://www.southeastwheelsevents.com/pro
 file/BobbieMenneg
ATTACH;FMTTYPE="image/jpeg":https://storage.ning.com/topology/rest/1.0
 /file/get/13740707056?profile=original
ATTENDEE;ROLE=REQ-PARTICIPANT;PARTSTAT=ACCEPTED;RSVP=TRUE;CN="Bobbie M
 enneg":https://www.southeastwheelsevents.com/profile/BobbieMenneg
END:VEVENT
END:VCALENDAR
