BEGIN:VCALENDAR
PRODID:NingEventWidget-v1
VERSION:2.0
METHOD:PUBLISH
BEGIN:VTIMEZONE
TZID:Pacific/Midway
X-LIC-LOCATION:Pacific/Midway
BEGIN:STANDARD
TZOFFSETFROM:-1100
TZOFFSETTO:-1100
TZNAME:SST
DTSTART:19700101T000000
END:STANDARD
END:VTIMEZONE
BEGIN:VEVENT
UID:5072275:Event:1103195
DTSTAMP:20260421T035211Z
SUMMARY:Big Bad Wolf Swap Meet and Car Show - Roopville, Ga
DESCRIPTION:Big Bad Wolf Swap Meet and Car Show, 1584 Roopville Veal R
 oad.\n\nFor more information visit https://www.southeastwheelsevents.c
 om/events/big-bad-wolf-swap-meet-and-car-show-roopville-ga
DTSTART;TZID=Pacific/Midway:20181027T100000
DTEND;TZID=Pacific/Midway:20181027T140000
CATEGORIES:car, show, cruise, in
LOCATION:Roopville, Ga
WEBSITE:https://www.google.co.in/maps/place/1584+Roopville+Veal+Rd,+Ro
 opville,+GA+30170,+USA/@33.440398,-85.1843517,17z/data=!3m1!4b1!4m5!3m
 4!1s0x888b3bfb87bb60a7:0xf5637cfbc70350a2!8m2!3d33.440398!4d-85.182163
URL:https://www.google.co.in/maps/place/1584+Roopville+Veal+Rd,+Roopvi
 lle,+GA+30170,+USA/@33.440398,-85.1843517,17z/data=!3m1!4b1!4m5!3m4!1s
 0x888b3bfb87bb60a7:0xf5637cfbc70350a2!8m2!3d33.440398!4d-85.182163
CONTACT:(678) 787-3601
ORGANIZER:
ATTACH;FMTTYPE="image/jpeg":http://storage.ning.com/topology/rest/1.0/
 file/get/967800036?profile=original
ATTENDEE;ROLE=REQ-PARTICIPANT;PARTSTAT=ACCEPTED;RSVP=TRUE;CN="Anthony 
 Hopkins":https://www.southeastwheelsevents.com/profile/AnthonyHopkins
END:VEVENT
END:VCALENDAR
