BEGIN:VCALENDAR
PRODID:NingEventWidget-v1
VERSION:2.0
METHOD:PUBLISH
BEGIN:VTIMEZONE
TZID:Pacific/Midway
X-LIC-LOCATION:Pacific/Midway
BEGIN:STANDARD
TZOFFSETFROM:-1100
TZOFFSETTO:-1100
TZNAME:SST
DTSTART:19700101T000000
END:STANDARD
END:VTIMEZONE
BEGIN:VEVENT
UID:5072275:Event:653151
DTSTAMP:20260420T180034Z
SUMMARY:BIG BUBBA's FUN RUN --Mosheim,  TN
DESCRIPTION:Annual Big Bubba's Open Car Show, first 200 entries receiv
 e a free T-shirt and Dash Plaque.  NO entry fee, free for spectators 
 also.\nAlso have Mosheim FunDays going on that same day on the school 
 grounds next to the Car Show.  This is a day of craft & food booths, 
 cornhole tournments,  live entertainment all day long including clogg
 ing, line dancing, gospel, country, bluegrass singing, followed up wit
 h a 50's, 60's 70's music venue at 8pm.  We end this day with a spect
 acular fireworks display at 10pm. \nCome spend the day with us, enjoy
  a nice day of food, crafts, music and lots of cars/trucks!!\n\nFor mo
 re information visit https://www.southeastwheelsevents.com/events/big-
 bubba-s-fun-run
DTSTART;TZID=Pacific/Midway:20160604T090000
DTEND;TZID=Pacific/Midway:20160604T160000
CATEGORIES:car, show, "&", funday
LOCATION:Mosheim Elementary School Grounds
WEBSITE:
URL:
CONTACT:423-422-4051
ORGANIZER:Town of Mosheim--BIG BUBBAS CAR SHOW
ATTACH;FMTTYPE="image/jpeg":http://storage.ning.com/topology/rest/1.0/
 file/get/967640718?profile=original
ATTENDEE;ROLE=REQ-PARTICIPANT;PARTSTAT=ACCEPTED;RSVP=TRUE;CN="Chuck Aa
 ron":https://www.southeastwheelsevents.com/profile/ChuckAaron
ATTENDEE;ROLE=REQ-PARTICIPANT;PARTSTAT=ACCEPTED;RSVP=TRUE;CN="Town of 
 Mosheim--BIG BUBBAS CAR":https://www.southeastwheelsevents.com/profile
 /TownofMosheimBIGBUBBASCAR
END:VEVENT
END:VCALENDAR
