BEGIN:VCALENDAR
PRODID:NingEventWidget-v1
VERSION:2.0
METHOD:PUBLISH
BEGIN:VTIMEZONE
TZID:Pacific/Midway
X-LIC-LOCATION:Pacific/Midway
BEGIN:STANDARD
TZOFFSETFROM:-1100
TZOFFSETTO:-1100
TZNAME:SST
DTSTART:19700101T000000
END:STANDARD
END:VTIMEZONE
BEGIN:VEVENT
UID:5072275:Event:973456
DTSTAMP:20260422T221928Z
SUMMARY:Big Iron Crank Up -Bowman,GA
DESCRIPTION:Antique engines- hit and miss, popping johns, and other su
 ch engines. We also have swap meet, craft and food venders, 9am to 5pm
  each day.\n\nFor more information visit https://www.southeastwheelsev
 ents.com/events/big-iron-crank-up
DTSTART;TZID=Pacific/Midway:20220423T090000
DTEND;TZID=Pacific/Midway:20220423T170000
CATEGORIES:festival, car, show
LOCATION:Bowman Park
WEBSITE:
URL:
CONTACT:917-388-9246
ORGANIZER;CN=BCDC:https://www.southeastwheelsevents.com/profile/BCDC
ATTACH;FMTTYPE="image/jpeg":http://storage.ning.com/topology/rest/1.0/
 file/get/967704187?profile=original
ATTENDEE;ROLE=REQ-PARTICIPANT;PARTSTAT=ACCEPTED;RSVP=TRUE;CN="Richard 
 Peek":https://www.southeastwheelsevents.com/profile/RichardPeek
END:VEVENT
END:VCALENDAR
