BEGIN:VCALENDAR
PRODID:NingEventWidget-v1
VERSION:2.0
METHOD:PUBLISH
BEGIN:VTIMEZONE
TZID:Pacific/Midway
X-LIC-LOCATION:Pacific/Midway
BEGIN:STANDARD
TZOFFSETFROM:-1100
TZOFFSETTO:-1100
TZNAME:SST
DTSTART:19700101T000000
END:STANDARD
END:VTIMEZONE
BEGIN:VEVENT
UID:5072275:Event:408865
DTSTAMP:20260420T085512Z
SUMMARY:big sams bbq show & shine free 625 jefferson st.lagarnge,ga.30
 241
DESCRIPTION:SHOW & SHINE TO BE HELD SEPT.17TH & OCT.15TH. 5-8PM EVERYO
 NE WELCOME 5 AWARDS FREE TO ALL DOOR PRIZES, 50/50 MUSIC & MORE.ALL VE
 HICLES WELCOME.BIG SAMS BBQ LAGRANGE\n\nFor more information visit ht
 tps://www.southeastwheelsevents.com/events/big-sams-bbq-show-shine-fre
 e-625-jefferson-st-lagarnge-ga-30241-1
DTSTART;TZID=Pacific/Midway:20110917T170000
DTEND;TZID=Pacific/Midway:20110917T200000
CATEGORIES:show, "&", shine, car
LOCATION:625 jefferon st.near lagrange college off vernon rd.
WEBSITE:
URL:
CONTACT:706--668-7731
ORGANIZER;CN="mary davenport":https://www.southeastwheelsevents.com/pr
 ofile/marydavenport
ATTACH;FMTTYPE="image/jpeg":http://storage.ning.com/topology/rest/1.0/
 file/get/967600480?profile=original
ATTENDEE;ROLE=REQ-PARTICIPANT;PARTSTAT=ACCEPTED;RSVP=TRUE;CN="mary dav
 enport":https://www.southeastwheelsevents.com/profile/marydavenport
END:VEVENT
END:VCALENDAR
