BEGIN:VCALENDAR
PRODID:NingEventWidget-v1
VERSION:2.0
METHOD:PUBLISH
BEGIN:VTIMEZONE
TZID:Pacific/Midway
X-LIC-LOCATION:Pacific/Midway
BEGIN:STANDARD
TZOFFSETFROM:-1100
TZOFFSETTO:-1100
TZNAME:SST
DTSTART:19700101T000000
END:STANDARD
END:VTIMEZONE
BEGIN:VEVENT
UID:5072275:Event:1242288
DTSTAMP:20260423T004418Z
SUMMARY:Bike and Cage Night with SMAC2PAC
DESCRIPTION:Join the American Legion with a Free band\n\nFor more info
 rmation visit https://www.southeastwheelsevents.com/events/bike-and-ca
 ge-night-with-smac2pac
DTSTART;TZID=Pacific/Midway:20230215T190000
DTEND;TZID=Pacific/Midway:20230215T210000
CATEGORIES:bike, and, cage, night
LOCATION:American Legion Post 127 Sugar Hill
WEBSITE:http://legion127.us
URL:http://legion127.us
CONTACT:470-589-1689
ORGANIZER;CN="Emil velez":https://www.southeastwheelsevents.com/profil
 e/Emilvelez835
ATTACH;FMTTYPE="image/jpeg":https://storage.ning.com/topology/rest/1.0
 /file/get/10950326081?profile=original
ATTENDEE;ROLE=REQ-PARTICIPANT;PARTSTAT=ACCEPTED;RSVP=TRUE;CN="Emil vel
 ez":https://www.southeastwheelsevents.com/profile/Emilvelez835
END:VEVENT
END:VCALENDAR
