BEGIN:VCALENDAR
PRODID:NingEventWidget-v1
VERSION:2.0
METHOD:PUBLISH
BEGIN:VTIMEZONE
TZID:Pacific/Midway
X-LIC-LOCATION:Pacific/Midway
BEGIN:STANDARD
TZOFFSETFROM:-1100
TZOFFSETTO:-1100
TZNAME:SST
DTSTART:19700101T000000
END:STANDARD
END:VTIMEZONE
BEGIN:VEVENT
UID:5072275:Event:709562
DTSTAMP:20260423T113920Z
SUMMARY:Bike Builders Compettion At The Lone Star Rally -Galveston, TX
DESCRIPTION:Bike Builders Compettion Friday November 1st At The Lone 
 Star Rally\n\n\n\n\n\nFor more information visit https://www.southeast
 wheelsevents.com/events/bike-builders-compettion-at-the-lone-star-rall
 y
DTSTART;TZID=Pacific/Midway:20131101T000000
DTEND;TZID=Pacific/Midway:20131101T235900
CATEGORIES:motorcycle, buildes, show
LOCATION:Lone Star Rally Haunted House
WEBSITE:http://www.lonestarrally.com/
URL:http://www.lonestarrally.com/
CONTACT:Lone Star Rally [actionpromotionsonline@gmail.com]
ORGANIZER:Lone Star Rally
ATTACH;FMTTYPE="image/jpeg":http://storage.ning.com/topology/rest/1.0/
 file/get/967647759?profile=original
ATTENDEE;ROLE=REQ-PARTICIPANT;PARTSTAT=ACCEPTED;RSVP=TRUE;CN="Snitch A
 dams":https://www.southeastwheelsevents.com/profile/SnitchAdams
ATTENDEE;ROLE=REQ-PARTICIPANT;PARTSTAT=ACCEPTED;RSVP=TRUE;CN="Michael 
 Thies":https://www.southeastwheelsevents.com/profile/MichaelThies
END:VEVENT
END:VCALENDAR
