BEGIN:VCALENDAR
PRODID:NingEventWidget-v1
VERSION:2.0
METHOD:PUBLISH
BEGIN:VTIMEZONE
TZID:Pacific/Midway
X-LIC-LOCATION:Pacific/Midway
BEGIN:STANDARD
TZOFFSETFROM:-1100
TZOFFSETTO:-1100
TZNAME:SST
DTSTART:19700101T000000
END:STANDARD
END:VTIMEZONE
BEGIN:VEVENT
UID:5072275:Event:524563
DTSTAMP:20260419T084657Z
SUMMARY:Bike Night at Bodock's
DESCRIPTION:KCHD sponsors Bike Night at Bodock’s Bar & Grill.  Join
  us for food and drink specials, music and give-aways.  Bodock’s is
  located at 150 Riverstone Pkwy, Canton.  FMI call 770.777.1000 or vi
 sit www.killercreekharley.com.\n\nFor more information visit https://w
 ww.southeastwheelsevents.com/events/bike-night-at-bodock-s-3
DTSTART;TZID=Pacific/Midway:20120809T190000
DTEND;TZID=Pacific/Midway:20120809T230000
CATEGORIES:bike, night
LOCATION:Bodock's Bar and Grill
WEBSITE:http://www.killercreekharley.com
URL:http://www.killercreekharley.com
CONTACT:770-777-1000
ORGANIZER;CN="Ari Bromley":https://www.southeastwheelsevents.com/profi
 le/MandiHarris
ATTACH;FMTTYPE="image/jpeg":http://storage.ning.com/topology/rest/1.0/
 file/get/967618057?profile=original
ATTENDEE;ROLE=REQ-PARTICIPANT;PARTSTAT=ACCEPTED;RSVP=TRUE;CN="Ari Brom
 ley":https://www.southeastwheelsevents.com/profile/MandiHarris
END:VEVENT
END:VCALENDAR
