BEGIN:VCALENDAR
PRODID:NingEventWidget-v1
VERSION:2.0
METHOD:PUBLISH
BEGIN:VTIMEZONE
TZID:Pacific/Midway
X-LIC-LOCATION:Pacific/Midway
BEGIN:STANDARD
TZOFFSETFROM:-1100
TZOFFSETTO:-1100
TZNAME:SST
DTSTART:19700101T000000
END:STANDARD
END:VTIMEZONE
BEGIN:VEVENT
UID:5072275:Event:1030295
DTSTAMP:20260423T012612Z
SUMMARY:Bike Night at Harley-Davidson of Atlanta
DESCRIPTION:Bike Night at Harley-Davidson of Atlanta located at 501 Th
 ornton Rd, Lithia Springs, GA. Join us inside for Acoustic Bike Night 
 with 3rd Shift Unplugged featuring HDA's very own Bryan Gladu.As alway
 s, we'll have free food\n\nFor more information visit https://www.sout
 heastwheelsevents.com/events/bike-night-at-harley-davidson-of-atlanta-
 1
DTSTART;TZID=Pacific/Midway:20170209T180000
DTEND;TZID=Pacific/Midway:20170209T210000
CATEGORIES:motorcycles, "clubs/shows/cruises"
LOCATION:Harley-Davidson of Atlanta
WEBSITE:http://www.hdatlanta.com/whats-going-on--xcalendar
URL:http://www.hdatlanta.com/whats-going-on--xcalendar
CONTACT:
ORGANIZER:Harley-Davidson of Atlanta
ATTACH;FMTTYPE="image/jpeg":
ATTENDEE;ROLE=REQ-PARTICIPANT;PARTSTAT=ACCEPTED;RSVP=TRUE;CN="Christop
 her Gosney":https://www.southeastwheelsevents.com/profile/ChristopherG
 osney
END:VEVENT
END:VCALENDAR
