BEGIN:VCALENDAR
PRODID:NingEventWidget-v1
VERSION:2.0
METHOD:PUBLISH
BEGIN:VTIMEZONE
TZID:Pacific/Midway
X-LIC-LOCATION:Pacific/Midway
BEGIN:STANDARD
TZOFFSETFROM:-1100
TZOFFSETTO:-1100
TZNAME:SST
DTSTART:19700101T000000
END:STANDARD
END:VTIMEZONE
BEGIN:VEVENT
UID:5072275:Event:1245714
DTSTAMP:20260423T162126Z
SUMMARY:Bike Night at the Legion
DESCRIPTION:Join us for Bike Night at American Legion Post 127 \n\nFo
 r more information visit https://www.southeastwheelsevents.com/events/
 bike-night-at-the-legion-1
DTSTART;TZID=Pacific/Midway:20230419T190000
DTEND;TZID=Pacific/Midway:20230419T220000
CATEGORIES:bike, night
LOCATION:American Legion Post 127 Sugar Hill Ga
WEBSITE:Http://legion127.us
URL:Http://legion127.us
CONTACT:
ORGANIZER;CN="Emil velez":https://www.southeastwheelsevents.com/profil
 e/Emilvelez835
ATTACH;FMTTYPE="image/jpeg":https://storage.ning.com/topology/rest/1.0
 /file/get/11018975660?profile=original
ATTENDEE;ROLE=REQ-PARTICIPANT;PARTSTAT=ACCEPTED;RSVP=TRUE;CN="Emil vel
 ez":https://www.southeastwheelsevents.com/profile/Emilvelez835
END:VEVENT
END:VCALENDAR
