BEGIN:VCALENDAR
PRODID:NingEventWidget-v1
VERSION:2.0
METHOD:PUBLISH
BEGIN:VTIMEZONE
TZID:Pacific/Midway
X-LIC-LOCATION:Pacific/Midway
BEGIN:STANDARD
TZOFFSETFROM:-1100
TZOFFSETTO:-1100
TZNAME:SST
DTSTART:19700101T000000
END:STANDARD
END:VTIMEZONE
BEGIN:VEVENT
UID:5072275:Event:1269398
DTSTAMP:20260420T205516Z
SUMMARY:Bike night at the Legion -Sugar Hill, GA
DESCRIPTION:Join us for the monthly Bike Night with music by Alien Sou
 l \r\n\r\nopen to the public always\r\n\r\nmotorcycle not required \
 n\nFor more information visit https://www.southeastwheelsevents.com/ev
 ents/bike-night-at-the-legion-11
DTSTART;TZID=Pacific/Midway:20250820T190000
DTEND;TZID=Pacific/Midway:20250820T220000
CATEGORIES:bike, night
LOCATION:American Legion post 127
WEBSITE:Http://legion127.us
URL:Http://legion127.us
CONTACT:
ORGANIZER;CN="Emil velez":https://www.southeastwheelsevents.com/profil
 e/Emilvelez835
ATTACH;FMTTYPE="image/jpeg":https://storage.ning.com/topology/rest/1.0
 /file/get/13676167656?profile=original
ATTENDEE;ROLE=REQ-PARTICIPANT;PARTSTAT=ACCEPTED;RSVP=TRUE;CN="Michael 
 Thies":https://www.southeastwheelsevents.com/profile/MichaelThies
ATTENDEE;ROLE=REQ-PARTICIPANT;PARTSTAT=ACCEPTED;RSVP=TRUE;CN="Emil vel
 ez":https://www.southeastwheelsevents.com/profile/Emilvelez835
ATTENDEE;ROLE=REQ-PARTICIPANT;PARTSTAT=ACCEPTED;RSVP=TRUE;CN="Chuck Aa
 ron":https://www.southeastwheelsevents.com/profile/ChuckAaron886
END:VEVENT
END:VCALENDAR
