BEGIN:VCALENDAR
PRODID:NingEventWidget-v1
VERSION:2.0
METHOD:PUBLISH
BEGIN:VTIMEZONE
TZID:Pacific/Midway
X-LIC-LOCATION:Pacific/Midway
BEGIN:STANDARD
TZOFFSETFROM:-1100
TZOFFSETTO:-1100
TZNAME:SST
DTSTART:19700101T000000
END:STANDARD
END:VTIMEZONE
BEGIN:VEVENT
UID:5072275:Event:1270762
DTSTAMP:20260420T025714Z
SUMMARY:Bike Night at the Legion
DESCRIPTION:Join us for the monthly Bike Night \n\nThis month on Satu
 rday\n\nOpen to the public\nMotorcycle not required \n\nFor more info
 rmation visit https://www.southeastwheelsevents.com/events/bike-night-
 at-the-legion-13
DTSTART;TZID=Pacific/Midway:20251018T200000
DTEND;TZID=Pacific/Midway:20251018T220000
CATEGORIES:bike, night
LOCATION:American Legion Post 127
WEBSITE:Http://legion127.us
URL:Http://legion127.us
CONTACT:
ORGANIZER;CN="Emil velez":https://www.southeastwheelsevents.com/profil
 e/Emilvelez835
ATTACH;FMTTYPE="image/jpeg":https://storage.ning.com/topology/rest/1.0
 /file/get/13727840491?profile=original
ATTENDEE;ROLE=REQ-PARTICIPANT;PARTSTAT=ACCEPTED;RSVP=TRUE;CN="Emil vel
 ez":https://www.southeastwheelsevents.com/profile/Emilvelez835
END:VEVENT
END:VCALENDAR
