BEGIN:VCALENDAR
PRODID:NingEventWidget-v1
VERSION:2.0
METHOD:PUBLISH
BEGIN:VTIMEZONE
TZID:Pacific/Midway
X-LIC-LOCATION:Pacific/Midway
BEGIN:STANDARD
TZOFFSETFROM:-1100
TZOFFSETTO:-1100
TZNAME:SST
DTSTART:19700101T000000
END:STANDARD
END:VTIMEZONE
BEGIN:VEVENT
UID:5072275:Event:106872
DTSTAMP:20260422T183044Z
SUMMARY:Bike Night -Clarkesville, GA
DESCRIPTION:Indian Creek Cycles, Roosters, and War Pony Customs.\n\nFo
 r more information visit https://www.southeastwheelsevents.com/events/
 bike-night-clarkesville-ga
DTSTART;TZID=Pacific/Midway:20101120T180000
DTEND;TZID=Pacific/Midway:20101120T210000
CATEGORIES:bike, "night/gathering"
LOCATION:Old Time BBQ
WEBSITE:
URL:
CONTACT:706-754-0239
ORGANIZER:Old Time BBQ, Roosters, Indian Creek Cycles, War Pony Custom
 s
ATTACH;FMTTYPE="image/jpeg":http://storage.ning.com/topology/rest/1.0/
 file/get/967587773?profile=original
ATTENDEE;ROLE=REQ-PARTICIPANT;PARTSTAT=ACCEPTED;RSVP=TRUE;CN="Mike Can
 non":https://www.southeastwheelsevents.com/profile/OldTimeBBQ
END:VEVENT
END:VCALENDAR
