BEGIN:VCALENDAR
PRODID:NingEventWidget-v1
VERSION:2.0
METHOD:PUBLISH
BEGIN:VTIMEZONE
TZID:Pacific/Midway
X-LIC-LOCATION:Pacific/Midway
BEGIN:STANDARD
TZOFFSETFROM:-1100
TZOFFSETTO:-1100
TZNAME:SST
DTSTART:19700101T000000
END:STANDARD
END:VTIMEZONE
BEGIN:VEVENT
UID:5072275:Event:904317
DTSTAMP:20260421T171642Z
SUMMARY:HOT RODS & BIKE NIGHT SUMMER CONCERT SERIES WITH GARAGE 71 -At
 lanta, GA
DESCRIPTION:Announced!!! Miller High Life presents 71 Days of Summer B
 ike Night Concert Series hosted by Garage71 Radio\nBeginning May 26th,
  the crew of Garage71 in conjunction with the Hard Rock Cafe, Miller H
 igh Life and Peachtree Center bring the party to the streets this year
 !!\nWe will be closing down Peachtree Street once again to secure on t
 he street parking for mototcycles and hot rods. This year, we will hos
 t four months of some amazing rare acoustic sets by 20 Watt Tombstone,
  Hot Rod Walt of the Psycho DeVilles, Waits & Co. and Blood on the Har
 p. This year, the party is in the streets! We are bringing the music o
 ut to the courtyard of Peachtree Center. What more could you ask for?!
 ?\nStreets closure will begin at 7PM and promptly reopen at 11PM. The 
 Bearded Sinners with the help of Atlantaâ€™s PD will assist with traff
 ic and anyone needing help backing in. Please realize, and we shouldnâ
 €™t even have to say this, but all laws are strictly enforced. There a
 re NO burnouts, NO riding without helmets, NO loud pipes, NO tricks or
  stunt riding at any level. If you break the law, this is 100% on you 
 and you will be prosecuted to the fullest. This is a good time for eve
 ryone, so donâ€™t be an ass!\nThis is a FREE event! Music will begin a
 round 8:30PM each month. We are excited for another year having fun in
  our backyard. There is limited vending. If interested, please call us
  at 678-765-7819.\nWe want to thank our sponsors, Miller High Life, LA
 WBIKE, Guys and Gals Collectables, Garage71 and Grease Inc. magazine. 
 The season is here, so letâ€™s enjoy a little of the High Life! #iamri
 ch #iamkustomkulture\n\n\n\n\n\n\nFollow us on-line at: www.garage71.c
 om www.greaseinc.netÂ \nwww.hellonwheelsevents.net\nFacebook:Â https:/
 /www.facebook.com/Garage71 https://www.facebook.com/greaseincmagazine 
 â€˘ We have several smaller pages and groups we are continuously growi
 ng andÂ  networking through â€˘ All of our hosts and writers all have 
 their single pages too to represent themselves/Â  characters Twitter i
 s Garage71 radioÂ  Instagram is @GreaseInc.Â \n\n\n\nFor more informat
 ion visit https://www.southeastwheelsevents.com/events/bike-night-summ
 er-concert-series-with-garage-71-atlanta-ga
DTSTART;TZID=Pacific/Midway:20160728T190000
DTEND;TZID=Pacific/Midway:20160728T234500
CATEGORIES:hot, rods, motorcycle, show, concert, meet, and, greet
LOCATION:Hard Rock Cafe
WEBSITE:http://www.hardrock.com/
URL:http://www.hardrock.com/
CONTACT:678-765-7819
ORGANIZER:Hard Rock Cafe
ATTACH;FMTTYPE="image/jpeg":http://storage.ning.com/topology/rest/1.0/
 file/get/967689733?profile=original
ATTENDEE;ROLE=REQ-PARTICIPANT;PARTSTAT=ACCEPTED;RSVP=TRUE;CN="Chuck Aa
 ron":https://www.southeastwheelsevents.com/profile/ChuckAaron
END:VEVENT
END:VCALENDAR
