BEGIN:VCALENDAR
PRODID:NingEventWidget-v1
VERSION:2.0
METHOD:PUBLISH
BEGIN:VTIMEZONE
TZID:Pacific/Midway
X-LIC-LOCATION:Pacific/Midway
BEGIN:STANDARD
TZOFFSETFROM:-1100
TZOFFSETTO:-1100
TZNAME:SST
DTSTART:19700101T000000
END:STANDARD
END:VTIMEZONE
BEGIN:VEVENT
UID:5072275:Event:1232197
DTSTAMP:20260423T105753Z
SUMMARY:Bike Night with Take3
DESCRIPTION:Join us for a free concert with Take3\n\n\n\nFor more info
 rmation visit https://www.southeastwheelsevents.com/events/bike-night-
 with-take3-1
DTSTART;TZID=Pacific/Midway:20220615T190000
DTEND;TZID=Pacific/Midway:20220615T210000
CATEGORIES:"show/concert"
LOCATION:American Legion Post127
WEBSITE:
URL:
CONTACT:
ORGANIZER:American Legion Post 127
ATTACH;FMTTYPE="image/jpeg":https://storage.ning.com/topology/rest/1.0
 /file/get/10073383099?profile=original
ATTENDEE;ROLE=REQ-PARTICIPANT;PARTSTAT=ACCEPTED;RSVP=TRUE;CN="Emil vel
 ez":https://www.southeastwheelsevents.com/profile/Emilvelez835
END:VEVENT
END:VCALENDAR
