BEGIN:VCALENDAR
PRODID:NingEventWidget-v1
VERSION:2.0
METHOD:PUBLISH
BEGIN:VTIMEZONE
TZID:Pacific/Midway
X-LIC-LOCATION:Pacific/Midway
BEGIN:STANDARD
TZOFFSETFROM:-1100
TZOFFSETTO:-1100
TZNAME:SST
DTSTART:19700101T000000
END:STANDARD
END:VTIMEZONE
BEGIN:VEVENT
UID:5072275:Event:700914
DTSTAMP:20260424T031752Z
SUMMARY:BIKE NITE RIVALS HOT DOGS--6550 Hwy 20, Loganville, Ga
DESCRIPTION:Motorcycle Cruise-in--EVERY THURSDAY NIGHT--5pm to 8pm.  
 Everyone welcome--bring your bike ride and receive 25% off your food o
 rder.  Good fun, good talk, good food.\nThe restaurant, with its famo
 us hot dogs and Sloppy Joes, can be found at the corner of Highway 20 
 and Miller Bottom Road in the Loganville area of unincorporated Gwinne
 tt.\nLike the restaurant on Facebookand drop in for another taste of o
 ne of those famous hot dogs. \n\nFor more information visit https://w
 ww.southeastwheelsevents.com/events/bike-nite-rivals-hot-dogs-6550-hwy
 -20-loganville-ga-4
DTSTART;TZID=Pacific/Midway:20140123T170000
DTEND;TZID=Pacific/Midway:20140123T200000
CATEGORIES:cruise-in
LOCATION:South of Loganville on Hwy 20--at corner of Hwy 20 and Rosebu
 d/Miller Bottom roads
WEBSITE:
URL:
CONTACT:
ORGANIZER:Rivals Hot Dogs
ATTACH;FMTTYPE="image/jpeg":http://storage.ning.com/topology/rest/1.0/
 file/get/967644534?profile=original
ATTENDEE;ROLE=REQ-PARTICIPANT;PARTSTAT=ACCEPTED;RSVP=TRUE;CN="Jack Tho
 mas":https://www.southeastwheelsevents.com/profile/JackThomas
END:VEVENT
END:VCALENDAR
