BEGIN:VCALENDAR
PRODID:NingEventWidget-v1
VERSION:2.0
METHOD:PUBLISH
BEGIN:VTIMEZONE
TZID:Pacific/Midway
X-LIC-LOCATION:Pacific/Midway
BEGIN:STANDARD
TZOFFSETFROM:-1100
TZOFFSETTO:-1100
TZNAME:SST
DTSTART:19700101T000000
END:STANDARD
END:VTIMEZONE
BEGIN:VEVENT
UID:5072275:Event:703401
DTSTAMP:20260419T111858Z
SUMMARY:Bike Party at the American Legion -Buford, GA
DESCRIPTION:Bike Night at the American Legion\n 7pm till...\nAmerican 
 Legion Riders Post 127 Buford is inviting you to bring THE FAMILY brin
 g YOUR FRIENDS out to BIKE NIGHT \nAmerican Legion Post 127 is locate
 d at 2640 Sawnee Ave, Buford\nFMI: 770-932-2386, info@legionpost127.or
 g, or www.legionpost127.org\n\nFor more information visit https://www.
 southeastwheelsevents.com/events/bike-party-at-the-american-legion-buf
 ord-ga-4
DTSTART;TZID=Pacific/Midway:20140918T190000
DTEND;TZID=Pacific/Midway:20140918T233000
CATEGORIES:motorcycle, show
LOCATION:American Legion Post 127
WEBSITE:http://www.legionpost127.org
URL:http://www.legionpost127.org
CONTACT:770-932-2386
ORGANIZER:American Legion Post 127
ATTACH;FMTTYPE="image/jpeg":http://storage.ning.com/topology/rest/1.0/
 file/get/967640595?profile=original
ATTENDEE;ROLE=REQ-PARTICIPANT;PARTSTAT=ACCEPTED;RSVP=TRUE;CN="Jack Tho
 mas":https://www.southeastwheelsevents.com/profile/JackThomas
END:VEVENT
END:VCALENDAR
