BEGIN:VCALENDAR
PRODID:NingEventWidget-v1
VERSION:2.0
METHOD:PUBLISH
BEGIN:VTIMEZONE
TZID:Pacific/Midway
X-LIC-LOCATION:Pacific/Midway
BEGIN:STANDARD
TZOFFSETFROM:-1100
TZOFFSETTO:-1100
TZNAME:SST
DTSTART:19700101T000000
END:STANDARD
END:VTIMEZONE
BEGIN:VEVENT
UID:5072275:Event:844286
DTSTAMP:20260424T134127Z
SUMMARY:Biker Noise for Girls and Boys 2nd Annual Mcleod Childrens Hos
 pital Charity Toy Run -Darlington, SC
DESCRIPTION:The Biker Noise for Girls and Boys 2nd Annual Mcleod Chil
 drens Hospital Charity Toy Run will be held in Darlington, South Carol
 ina on December 6th, 2014.\nLocation:\n-Lamar Hwy and I-20 Markette, D
 arlington, South Carolina\n\nCharity toy run for local children's hosp
 ital. Find us on Facebook under Biker Noise For Girls And Boys.\nPleas
 e Contact For More Information:\n-(843) 861-4602\nWe hope to see you t
 here! \n\nFor more information visit https://www.southeastwheelsevent
 s.com/events/biker-noise-for-girls-and-boys-2nd-annual-mcleod-children
 s-hospit
DTSTART;TZID=Pacific/Midway:20141206T000000
DTEND;TZID=Pacific/Midway:20141206T235900
CATEGORIES:charity, toy, run
LOCATION:Lamar Hwy and I-20 Markette
WEBSITE:
URL:
CONTACT:stevenswilliam373@yahoo.com  843-861-4602
ORGANIZER:Jake \"Storm\" Stevens
ATTACH;FMTTYPE="image/jpeg":http://storage.ning.com/topology/rest/1.0/
 file/get/967673802?profile=original
ATTENDEE;ROLE=REQ-PARTICIPANT;PARTSTAT=ACCEPTED;RSVP=TRUE;CN="Chuck Aa
 ron":https://www.southeastwheelsevents.com/profile/ChuckAaron
END:VEVENT
END:VCALENDAR
