BEGIN:VCALENDAR
PRODID:NingEventWidget-v1
VERSION:2.0
METHOD:PUBLISH
BEGIN:VTIMEZONE
TZID:Pacific/Midway
X-LIC-LOCATION:Pacific/Midway
BEGIN:STANDARD
TZOFFSETFROM:-1100
TZOFFSETTO:-1100
TZNAME:SST
DTSTART:19700101T000000
END:STANDARD
END:VTIMEZONE
BEGIN:VEVENT
UID:5072275:Event:470937
DTSTAMP:20260423T212920Z
SUMMARY:Biker Swap Meet - Starke, FL
DESCRIPTION:No Charge To Set Up..Vendors Or Private Individual. We've 
 Got Leather Repair,Patches,Jewelery,Clothing,Parts,And Food Vendors Co
 ming. Got A Trailer Full Or Just A Few Things...Don't Matter No Charge
  To Set Up. Contact Us (Linda, Stephanie, Or Annie) At 904-966-2229 S
 o We Can Save An Assigned Spot For You. We're On Us301 Just North Of S
 tarke, Fl. We Do This Every Other Month Third Weekend Of The Month.\n\
 nFor more information visit https://www.southeastwheelsevents.com/even
 ts/biker-swap-meet-starke-fl-2
DTSTART;TZID=Pacific/Midway:20120519T110000
DTEND;TZID=Pacific/Midway:20120520T230000
CATEGORIES:bike, swap, meet
LOCATION:Biker Swap Meet
WEBSITE:
URL:
CONTACT:904-966-2229
ORGANIZER:Linda, Stephanie, Or Annie
ATTACH;FMTTYPE="image/jpeg":http://storage.ning.com/topology/rest/1.0/
 file/get/967605212?profile=original
ATTENDEE;ROLE=REQ-PARTICIPANT;PARTSTAT=ACCEPTED;RSVP=TRUE;CN="Michael 
 Thies":https://www.southeastwheelsevents.com/profile/MichaelThies
END:VEVENT
END:VCALENDAR
