BEGIN:VCALENDAR
PRODID:NingEventWidget-v1
VERSION:2.0
METHOD:PUBLISH
BEGIN:VTIMEZONE
TZID:Pacific/Midway
X-LIC-LOCATION:Pacific/Midway
BEGIN:STANDARD
TZOFFSETFROM:-1100
TZOFFSETTO:-1100
TZNAME:SST
DTSTART:19700101T000000
END:STANDARD
END:VTIMEZONE
BEGIN:VEVENT
UID:5072275:Event:893370
DTSTAMP:20260421T031926Z
SUMMARY:BIKERS DREAM MOTORCYCLES RETIREMENT AUCTION -Alpharetta, GA
DESCRIPTION:DON PARKINSON HAS DECIDED TO RETIRE AND WE WILL BE SELLING
  THE CONTENTS OF HIS MOTORCYCLE SHOP ON SATURDAY MAY 30TH 11AM 5960 AT
 LANTA HWY 9 ALPHARETTA GA 30004. WE WILL HAVE SEVERAL MOTORCYCLES, STO
 RE DISPLAYS, SHOP HAND AND POWER TOOLS, HUNDREDS OF MORTORCYCLE PARTS 
 AND ACCESSORIES SOME NEW IN PACKAGE, NEON SIGNS, OFFICE FURNITURE, PHO
 NE SYSTEM, METAL RACKS, AND MUCH MORE\n\nFor more information visit ht
 tps://www.southeastwheelsevents.com/events/bikers-dream-motorcycles-re
 tirement-auction
DTSTART;TZID=Pacific/Midway:20150530T110000
DTEND;TZID=Pacific/Midway:20150530T160000
CATEGORIES:motorcycle, shop, "&", parts, auction
LOCATION:BIKERS DREAM MOTORCYCLE SHOP
WEBSITE:http://WWW.FSAGALLERY.COM
URL:http://WWW.FSAGALLERY.COM
CONTACT:404-876-1048
ORGANIZER;CN="Steve White":https://www.southeastwheelsevents.com/profi
 le/SteveWhite
ATTACH;FMTTYPE="image/jpeg":http://storage.ning.com/topology/rest/1.0/
 file/get/967685231?profile=original
ATTENDEE;ROLE=REQ-PARTICIPANT;PARTSTAT=ACCEPTED;RSVP=TRUE;CN="Steve Wh
 ite":https://www.southeastwheelsevents.com/profile/SteveWhite
END:VEVENT
END:VCALENDAR
