BEGIN:VCALENDAR
PRODID:NingEventWidget-v1
VERSION:2.0
METHOD:PUBLISH
BEGIN:VTIMEZONE
TZID:Pacific/Midway
X-LIC-LOCATION:Pacific/Midway
BEGIN:STANDARD
TZOFFSETFROM:-1100
TZOFFSETTO:-1100
TZNAME:SST
DTSTART:19700101T000000
END:STANDARD
END:VTIMEZONE
BEGIN:VEVENT
UID:5072275:Event:1024652
DTSTAMP:20260424T004628Z
SUMMARY:Birmingham British Motoring Club Meeting
DESCRIPTION:Birmingham British Motoring Club Meeting will happen at Lo
 gan's Roadhouse. Schedule: Dinner at 6:00 PM, Meeting at 7:00 PM. Meet
 ing end time may change.\n\nFor more information visit https://www.sou
 theastwheelsevents.com/events/birmingham-british-motoring-club-meeting
DTSTART;TZID=Pacific/Midway:20161213T180000
DTEND;TZID=Pacific/Midway:20161213T210000
CATEGORIES:cars, "clubs/shows/cruises"
LOCATION:Logan's Roadhouse
WEBSITE:http://www.birminghambmc.org/
URL:http://www.birminghambmc.org/
CONTACT:
ORGANIZER:
ATTACH;FMTTYPE="image/jpeg":
ATTENDEE;ROLE=REQ-PARTICIPANT;PARTSTAT=ACCEPTED;RSVP=TRUE;CN="Chris go
 sney":https://www.southeastwheelsevents.com/profile/Chrisgosney
END:VEVENT
END:VCALENDAR
