BEGIN:VCALENDAR
PRODID:NingEventWidget-v1
VERSION:2.0
METHOD:PUBLISH
BEGIN:VTIMEZONE
TZID:Pacific/Midway
X-LIC-LOCATION:Pacific/Midway
BEGIN:STANDARD
TZOFFSETFROM:-1100
TZOFFSETTO:-1100
TZNAME:SST
DTSTART:19700101T000000
END:STANDARD
END:VTIMEZONE
BEGIN:VEVENT
UID:5072275:Event:1025120
DTSTAMP:20260423T053041Z
SUMMARY:Black Sheep Harley Davidson for Christ - Middle Georgia Chapte
 r Meeting
DESCRIPTION:Black Sheep Harley Davidson for Christ - Middle Georgia Ch
 apter Meeting will be held at The Man Cave, Warner Robins, GA. Meeting
  starts at 6.30pm. End time may change.\n\nFor more information visit 
 https://www.southeastwheelsevents.com/events/black-sheep-harley-davids
 on-for-christ-middle-georgia-chapter-1
DTSTART;TZID=Pacific/Midway:20161229T183000
DTEND;TZID=Pacific/Midway:20161229T210000
CATEGORIES:motorcycles, "clubs/shows/cruises"
LOCATION:The Man Cave
WEBSITE:http://blacksheephdfc.org/index.php?option=com_content&view=ar
 ticle&id=42&Itemid=45
URL:http://blacksheephdfc.org/index.php?option=com_content&view=articl
 e&id=42&Itemid=45
CONTACT:
ORGANIZER:Black Sheep Harley Davidson for Christ - Middle Georgia Chap
 ter
ATTACH;FMTTYPE="image/jpeg":
ATTENDEE;ROLE=REQ-PARTICIPANT;PARTSTAT=ACCEPTED;RSVP=TRUE;CN="Chris go
 sney":https://www.southeastwheelsevents.com/profile/Chrisgosney
END:VEVENT
END:VCALENDAR
