BEGIN:VCALENDAR
PRODID:NingEventWidget-v1
VERSION:2.0
METHOD:PUBLISH
BEGIN:VTIMEZONE
TZID:Pacific/Midway
X-LIC-LOCATION:Pacific/Midway
BEGIN:STANDARD
TZOFFSETFROM:-1100
TZOFFSETTO:-1100
TZNAME:SST
DTSTART:19700101T000000
END:STANDARD
END:VTIMEZONE
BEGIN:VEVENT
UID:5072275:Event:852079
DTSTAMP:20260423T140444Z
SUMMARY:Black Widow Open Cruise-In -Port Charlotte, FL
DESCRIPTION:The Black Widow Open Cruise-In will be held at Black Wido
 w Harley Davidson in Port Charlotte, Florida on January 10th, 2015.\n 
 Location:-Black Widow Harley Davidson in Port Charlotte, Florida (2224
  El Jobean Road, Port Charlotte, FL 33948)  Hosted by Veteran Motor Ca
 r Club of America SW Florida Region! All makes, models, and years of c
 ars, trucks, and motorcycles welcome! No fees! No pre-registration! \
 n  Event Hours: -10:30am-2:00pm  Please Contact For More Information: 
 -(941) 575-0202 -(941) 626-4452  We hope to see you there! \n\nFor mo
 re information visit https://www.southeastwheelsevents.com/events/blac
 k-widow-open-cruise-in-port-charlotte-fl
DTSTART;TZID=Pacific/Midway:20150110T103000
DTEND;TZID=Pacific/Midway:20150110T140000
CATEGORIES:open, car, bike, show
LOCATION:Black Widow Harley Davidson
WEBSITE:http://www.blackwidowh-d.com/event_list_detail.asp?ecode=65920
 5&month=1&year=2015&location=0&Submit=Search
URL:http://www.blackwidowh-d.com/event_list_detail.asp?ecode=659205&mo
 nth=1&year=2015&location=0&Submit=Search
CONTACT:Lee & Don Royston 941-575-0202 or 941-626-4452
ORGANIZER:Veteran Motor Car Club of America SW Florida Region
ATTACH;FMTTYPE="image/jpeg":http://storage.ning.com/topology/rest/1.0/
 file/get/967674630?profile=original
ATTENDEE;ROLE=REQ-PARTICIPANT;PARTSTAT=ACCEPTED;RSVP=TRUE;CN="Chuck Aa
 ron":https://www.southeastwheelsevents.com/profile/ChuckAaron
END:VEVENT
END:VCALENDAR
