BEGIN:VCALENDAR
PRODID:NingEventWidget-v1
VERSION:2.0
METHOD:PUBLISH
BEGIN:VTIMEZONE
TZID:Pacific/Midway
X-LIC-LOCATION:Pacific/Midway
BEGIN:STANDARD
TZOFFSETFROM:-1100
TZOFFSETTO:-1100
TZNAME:SST
DTSTART:19700101T000000
END:STANDARD
END:VTIMEZONE
BEGIN:VEVENT
UID:5072275:Event:746116
DTSTAMP:20260421T065454Z
SUMMARY:Motorcycle Swap Meet -Columbus, GA
DESCRIPTION:\n\n\n\nThe Motorcycle Swap Meet will be held at Chattaho
 ochee Harley Davidson in Columbus, Georgia on August 16th, 2014.Locati
 on:-Chattahoochee Harley Davidson in Columbus, Georgia (3230 Williams
  Rd, Columbus, GA 31909)Check back on the website listed below for mor
 e details as they become available.Please Contact For More Information
 :-(706) 324-4294\n\n\nWEBSITE\nhttp://www.chattahoocheehd.com\n\n \n\
 n\n\n\n\nFor more information visit https://www.southeastwheelsevents.
 com/events/blessing-of-the-bikes-columbus-ga
DTSTART;TZID=Pacific/Midway:20140816T000000
DTEND;TZID=Pacific/Midway:20140816T235900
CATEGORIES:motorcycle, swap, meet
LOCATION:Chattahoochee Harley Davidson
WEBSITE:http://www.chattahoocheehd.com
URL:http://www.chattahoocheehd.com
CONTACT:706-324-4294
ORGANIZER:Chattahoochee Harley Davidson
ATTACH;FMTTYPE="image/jpeg":http://storage.ning.com/topology/rest/1.0/
 file/get/967655886?profile=original
ATTENDEE;ROLE=REQ-PARTICIPANT;PARTSTAT=ACCEPTED;RSVP=TRUE;CN="Chuck Aa
 ron":https://www.southeastwheelsevents.com/profile/ChuckAaron
END:VEVENT
END:VCALENDAR
