BEGIN:VCALENDAR
PRODID:NingEventWidget-v1
VERSION:2.0
METHOD:PUBLISH
BEGIN:VTIMEZONE
TZID:Pacific/Midway
X-LIC-LOCATION:Pacific/Midway
BEGIN:STANDARD
TZOFFSETFROM:-1100
TZOFFSETTO:-1100
TZNAME:SST
DTSTART:19700101T000000
END:STANDARD
END:VTIMEZONE
BEGIN:VEVENT
UID:5072275:Event:874235
DTSTAMP:20260425T084853Z
SUMMARY:Blessing of the Fleet Car Show, Darien, Georgia
DESCRIPTION:Annual Blessing of the Shrimp Fleet here in Darien, Georgi
 a.  The Car Show will be held at the Darien Outlet Mall off I95, exit
  49.  Follow signs ..  Top 40 for Classic Cars and Top 3 C1-C7 Corve
 ttes.  Dash plaques and T-shirts to first 100.  Host hotel...Comfort
  Inn...mention car show for show discount on room rates\nFree shuttle 
 to festival events.  The actual festival runs from Friday night the 1
 7th thru Sunday the 19th with live entertainment, arts, crafts and foo
 d.\n\nFor more information visit https://www.southeastwheelsevents.com
 /events/blessing-of-the-fleet-car-show-darien-georgia
DTSTART;TZID=Pacific/Midway:20170408T080000
DTEND;TZID=Pacific/Midway:20170408T150000
CATEGORIES:supports, club, charities
LOCATION:Darien Outlet Mall
WEBSITE:http://www.classiccoastalcruisers.com
URL:http://www.classiccoastalcruisers.com
CONTACT:912-604-3264
ORGANIZER:William (Bill) Hill, Prersident Classic Coastal Cruisers
ATTACH;FMTTYPE="image/jpeg":
ATTENDEE;ROLE=REQ-PARTICIPANT;PARTSTAT=ACCEPTED;RSVP=TRUE;CN="Chuck Aa
 ron":https://www.southeastwheelsevents.com/profile/ChuckAaron886
ATTENDEE;ROLE=REQ-PARTICIPANT;PARTSTAT=ACCEPTED;RSVP=TRUE;CN="William 
 (Bill) Hill":https://www.southeastwheelsevents.com/profile/WilliamBill
 Hill
END:VEVENT
END:VCALENDAR
