BEGIN:VCALENDAR
PRODID:NingEventWidget-v1
VERSION:2.0
METHOD:PUBLISH
BEGIN:VTIMEZONE
TZID:Pacific/Midway
X-LIC-LOCATION:Pacific/Midway
BEGIN:STANDARD
TZOFFSETFROM:-1100
TZOFFSETTO:-1100
TZNAME:SST
DTSTART:19700101T000000
END:STANDARD
END:VTIMEZONE
BEGIN:VEVENT
UID:5072275:Event:754183
DTSTAMP:20260423T070329Z
SUMMARY:Blue Ridge Community College's Car Show -Flat Rock, NC
DESCRIPTION:Got a favorite ride or something special under the hood yo
 u'd like to display?  Bring it to Blue Ridge Community College's Car S
 how on the Henderson County campus.  Facts -The show, which will be fr
 om 9 a.m. to 3 p.m., is sponsored by Blue Ridge's Skills USA student c
 lub and Western North Carolina Great Smoky Mountain Region of AACA.  T
 he show, which is open to cars and trucks of all makes and models, has
  traditionally attracted a wide range of antique cars, hot rods, class
 ics, muscle cars and special interest vehicles. Registration of $5 can
  be paid at the gate.  The viewing public will be admitted free. This 
 is an open, non-judged show. For more information contact Brian Johnso
 n at 828-694-1835 or Matt at 828-694-1835 \n\nFor more information v
 isit https://www.southeastwheelsevents.com/events/blue-ridge-community
 -college-s-car-show-flat-rock-nc-2
DTSTART;TZID=Pacific/Midway:20150530T090000
DTEND;TZID=Pacific/Midway:20150530T150000
CATEGORIES:car-show
LOCATION:Henderson County campus
WEBSITE:
URL:
CONTACT:Brian Johnson at 828-694-1835
ORGANIZER:Blue Ridge CC
ATTACH;FMTTYPE="image/jpeg":http://storage.ning.com/topology/rest/1.0/
 file/get/967655416?profile=original
ATTENDEE;ROLE=REQ-PARTICIPANT;PARTSTAT=ACCEPTED;RSVP=TRUE;CN="Chuck Aa
 ron":https://www.southeastwheelsevents.com/profile/ChuckAaron
END:VEVENT
END:VCALENDAR
